BEGIN:VCALENDAR
VERSION:2.0
PRODID:-//Epiphany - ECPv6.15.18//NONSGML v1.0//EN
CALSCALE:GREGORIAN
METHOD:PUBLISH
X-WR-CALNAME:Epiphany
X-ORIGINAL-URL:https://www.theepiphanyschool.org
X-WR-CALDESC:Events for Epiphany
REFRESH-INTERVAL;VALUE=DURATION:PT1H
X-Robots-Tag:noindex
X-PUBLISHED-TTL:PT1H
BEGIN:VTIMEZONE
TZID:America/New_York
BEGIN:DAYLIGHT
TZOFFSETFROM:-0500
TZOFFSETTO:-0400
TZNAME:EDT
DTSTART:20250309T070000
END:DAYLIGHT
BEGIN:STANDARD
TZOFFSETFROM:-0400
TZOFFSETTO:-0500
TZNAME:EST
DTSTART:20251102T060000
END:STANDARD
BEGIN:DAYLIGHT
TZOFFSETFROM:-0500
TZOFFSETTO:-0400
TZNAME:EDT
DTSTART:20260308T070000
END:DAYLIGHT
BEGIN:STANDARD
TZOFFSETFROM:-0400
TZOFFSETTO:-0500
TZNAME:EST
DTSTART:20261101T060000
END:STANDARD
BEGIN:DAYLIGHT
TZOFFSETFROM:-0500
TZOFFSETTO:-0400
TZNAME:EDT
DTSTART:20270314T070000
END:DAYLIGHT
BEGIN:STANDARD
TZOFFSETFROM:-0400
TZOFFSETTO:-0500
TZNAME:EST
DTSTART:20271107T060000
END:STANDARD
BEGIN:DAYLIGHT
TZOFFSETFROM:-0500
TZOFFSETTO:-0400
TZNAME:EDT
DTSTART:20280312T070000
END:DAYLIGHT
BEGIN:STANDARD
TZOFFSETFROM:-0400
TZOFFSETTO:-0500
TZNAME:EST
DTSTART:20281105T060000
END:STANDARD
END:VTIMEZONE
BEGIN:VEVENT
DTSTART;VALUE=DATE:20261027
DTEND;VALUE=DATE:20261028
DTSTAMP:20260420T145206
CREATED:20260327T131200Z
LAST-MODIFIED:20260327T131200Z
UID:10002057-1793059200-1793145599@www.theepiphanyschool.org
SUMMARY:School Picture Day\, All Classes
DESCRIPTION:
URL:https://www.theepiphanyschool.org/event/school-picture-day-all-classes/
LOCATION:NY
CATEGORIES:The Epiphany School
END:VEVENT
BEGIN:VEVENT
DTSTART;VALUE=DATE:20261126
DTEND;VALUE=DATE:20270729
DTSTAMP:20260420T145206
CREATED:20260327T131545Z
LAST-MODIFIED:20260327T131757Z
UID:10002061-1795651200-1816819199@www.theepiphanyschool.org
SUMMARY:Happy Thanksgiving
DESCRIPTION:
URL:https://www.theepiphanyschool.org/event/happy-thanksgiving/
LOCATION:NY
CATEGORIES:The Epiphany School,The Epiphany Church
END:VEVENT
BEGIN:VEVENT
DTSTART;VALUE=DATE:20261127
DTEND;VALUE=DATE:20261128
DTSTAMP:20260420T145206
CREATED:20260327T131617Z
LAST-MODIFIED:20260327T131617Z
UID:10002062-1795737600-1795823999@www.theepiphanyschool.org
SUMMARY:School Closed
DESCRIPTION:
URL:https://www.theepiphanyschool.org/event/school-closed-57/
LOCATION:NY
CATEGORIES:The Epiphany School
END:VEVENT
BEGIN:VEVENT
DTSTART;VALUE=DATE:20261129
DTEND;VALUE=DATE:20261130
DTSTAMP:20260420T145206
CREATED:20260327T131342Z
LAST-MODIFIED:20260327T131342Z
UID:10002059-1795910400-1795996799@www.theepiphanyschool.org
SUMMARY:First Sunday of Advent
DESCRIPTION:
URL:https://www.theepiphanyschool.org/event/first-sunday-of-advent-4/
LOCATION:NY
CATEGORIES:The Epiphany School,The Epiphany Church
END:VEVENT
BEGIN:VEVENT
DTSTART;VALUE=DATE:20261201
DTEND;VALUE=DATE:20261202
DTSTAMP:20260420T145206
CREATED:20260327T131702Z
LAST-MODIFIED:20260327T131702Z
UID:10002063-1796083200-1796169599@www.theepiphanyschool.org
SUMMARY:#GivingTuesday
DESCRIPTION:
URL:https://www.theepiphanyschool.org/event/givingtuesday-5/
LOCATION:NY
CATEGORIES:The Epiphany School,The Epiphany Church
END:VEVENT
BEGIN:VEVENT
DTSTART;TZID=America/New_York:20261208T080000
DTEND;TZID=America/New_York:20261208T170000
DTSTAMP:20260420T145206
CREATED:20260327T131419Z
LAST-MODIFIED:20260327T131419Z
UID:10002060-1796716800-1796749200@www.theepiphanyschool.org
SUMMARY:Immaculate Conception
DESCRIPTION:
URL:https://www.theepiphanyschool.org/event/immaculate-conception-2/
LOCATION:NY
CATEGORIES:The Epiphany School,The Epiphany Church
END:VEVENT
BEGIN:VEVENT
DTSTART;VALUE=DATE:20270107
DTEND;VALUE=DATE:20270108
DTSTAMP:20260420T145206
CREATED:20260327T131303Z
LAST-MODIFIED:20260327T131303Z
UID:10002058-1799280000-1799366399@www.theepiphanyschool.org
SUMMARY:Class of 2027 Graduation Portraits Taken
DESCRIPTION:
URL:https://www.theepiphanyschool.org/event/class-of-2027-graduation-portraits-taken/
LOCATION:NY
CATEGORIES:The Epiphany School
END:VEVENT
END:VCALENDAR