BEGIN:VCALENDAR
VERSION:2.0
PRODID:-//Epiphany - ECPv6.15.18//NONSGML v1.0//EN
CALSCALE:GREGORIAN
METHOD:PUBLISH
X-ORIGINAL-URL:https://www.theepiphanyschool.org
X-WR-CALDESC:Events for Epiphany
REFRESH-INTERVAL;VALUE=DURATION:PT1H
X-Robots-Tag:noindex
X-PUBLISHED-TTL:PT1H
BEGIN:VTIMEZONE
TZID:America/New_York
BEGIN:DAYLIGHT
TZOFFSETFROM:-0500
TZOFFSETTO:-0400
TZNAME:EDT
DTSTART:20230312T070000
END:DAYLIGHT
BEGIN:STANDARD
TZOFFSETFROM:-0400
TZOFFSETTO:-0500
TZNAME:EST
DTSTART:20231105T060000
END:STANDARD
BEGIN:DAYLIGHT
TZOFFSETFROM:-0500
TZOFFSETTO:-0400
TZNAME:EDT
DTSTART:20240310T070000
END:DAYLIGHT
BEGIN:STANDARD
TZOFFSETFROM:-0400
TZOFFSETTO:-0500
TZNAME:EST
DTSTART:20241103T060000
END:STANDARD
BEGIN:DAYLIGHT
TZOFFSETFROM:-0500
TZOFFSETTO:-0400
TZNAME:EDT
DTSTART:20250309T070000
END:DAYLIGHT
BEGIN:STANDARD
TZOFFSETFROM:-0400
TZOFFSETTO:-0500
TZNAME:EST
DTSTART:20251102T060000
END:STANDARD
END:VTIMEZONE
BEGIN:VEVENT
DTSTART;VALUE=DATE:20240902
DTEND;VALUE=DATE:20240903
DTSTAMP:20260421T091901
CREATED:20240513T153517Z
LAST-MODIFIED:20240513T153517Z
UID:10001684-1725235200-1725321599@www.theepiphanyschool.org
SUMMARY:Labor Day
DESCRIPTION:
URL:https://www.theepiphanyschool.org/event/labor-day-8/
LOCATION:NY
CATEGORIES:The Epiphany School
END:VEVENT
BEGIN:VEVENT
DTSTART;VALUE=DATE:20240905
DTEND;VALUE=DATE:20240906
DTSTAMP:20260421T091901
CREATED:20240513T184021Z
LAST-MODIFIED:20240513T184021Z
UID:10001708-1725494400-1725580799@www.theepiphanyschool.org
SUMMARY:First Day of School\, 1st - 8th Grades
DESCRIPTION:
URL:https://www.theepiphanyschool.org/event/first-day-of-school-1st-8th-grades/
LOCATION:NY
CATEGORIES:The Epiphany School
END:VEVENT
BEGIN:VEVENT
DTSTART;TZID=America/New_York:20240906T090000
DTEND;TZID=America/New_York:20240906T100000
DTSTAMP:20260421T091902
CREATED:20240531T140103Z
LAST-MODIFIED:20240531T140103Z
UID:10001725-1725613200-1725616800@www.theepiphanyschool.org
SUMMARY:ECC Class Meetings for Parents\, 9:00am
DESCRIPTION:Toddler Twos\, Nursery\, and Pre-Kindergarten classes will have parent meetings in the classrooms at 9:00am.
URL:https://www.theepiphanyschool.org/event/ecc-class-meetings-for-parents-900am-2/
LOCATION:Early Childhood Center\, 152 East 29th Street\, New York\, NY\, 10016\, United States
CATEGORIES:The Epiphany School
END:VEVENT
BEGIN:VEVENT
DTSTART;VALUE=DATE:20240909
DTEND;VALUE=DATE:20240910
DTSTAMP:20260421T091902
CREATED:20240513T184111Z
LAST-MODIFIED:20240513T184111Z
UID:10001709-1725840000-1725926399@www.theepiphanyschool.org
SUMMARY:First Day of School\, Kindergarten & Early Childhood Center
DESCRIPTION:
URL:https://www.theepiphanyschool.org/event/first-day-of-school-kindergarten-early-childhood-center/
LOCATION:NY
CATEGORIES:The Epiphany School
END:VEVENT
BEGIN:VEVENT
DTSTART;TZID=America/New_York:20240910T190000
DTEND;TZID=America/New_York:20240910T200000
DTSTAMP:20260421T091902
CREATED:20240524T164522Z
LAST-MODIFIED:20240524T164522Z
UID:10001712-1725994800-1725998400@www.theepiphanyschool.org
SUMMARY:Upper School Back to School Night\, 7:00pm
DESCRIPTION:
URL:https://www.theepiphanyschool.org/event/upper-school-back-to-school-night-700pm/
LOCATION:Upper School Gym\, 141 East 28th Street\, New York\, NY\, 10016\, United States
CATEGORIES:The Epiphany School,Epiphany Family Association
END:VEVENT
BEGIN:VEVENT
DTSTART;VALUE=DATE:20240911
DTEND;VALUE=DATE:20240912
DTSTAMP:20260421T091902
CREATED:20240524T165336Z
LAST-MODIFIED:20240908T014157Z
UID:10001716-1726012800-1726099199@www.theepiphanyschool.org
SUMMARY:Mass of the Holy Spirit: students K - 8th; Upper School students meet in the Parish Hall at 8:30am
DESCRIPTION:
URL:https://www.theepiphanyschool.org/event/mass-of-the-holy-spirit-students-1st-8th-upper-school-students-meet-in-the-parish-hall-at-830am-2/
LOCATION:NY
CATEGORIES:The Epiphany School,The Epiphany Church
END:VEVENT
BEGIN:VEVENT
DTSTART;TZID=America/New_York:20240912T190000
DTEND;TZID=America/New_York:20240912T200000
DTSTAMP:20260421T091902
CREATED:20240524T164716Z
LAST-MODIFIED:20240524T164902Z
UID:10001714-1726167600-1726171200@www.theepiphanyschool.org
SUMMARY:Lower School Back to School Night\, 7:00pm
DESCRIPTION:
URL:https://www.theepiphanyschool.org/event/half-day-35/
LOCATION:Parish Hall\, 375 Second Avenue\, New York\, NY\, 10010\, United States
CATEGORIES:The Epiphany School
END:VEVENT
BEGIN:VEVENT
DTSTART;TZID=America/New_York:20240913T144500
DTEND;TZID=America/New_York:20240913T153000
DTSTAMP:20260421T091902
CREATED:20230831T200140Z
LAST-MODIFIED:20240828T172322Z
UID:10001511-1726238700-1726241400@www.theepiphanyschool.org
SUMMARY:Family Association Sno-Cone Party\, 2:45pm
DESCRIPTION:New families\, Please join us for a Getting to Know You Sno-Cone Party at 2:45 in the Lower School yard.
URL:https://www.theepiphanyschool.org/event/family-association-popsicle-party-245pm/
LOCATION:Lower School Yard\, 234 East 22nd Street\, New York\, NY\, 10010\, United States
CATEGORIES:The Epiphany School,Epiphany Family Association
END:VEVENT
BEGIN:VEVENT
DTSTART;VALUE=DATE:20240917
DTEND;VALUE=DATE:20240918
DTSTAMP:20260421T091902
CREATED:20240613T154454Z
LAST-MODIFIED:20240613T154454Z
UID:10001787-1726531200-1726617599@www.theepiphanyschool.org
SUMMARY:ESF President's Club Reception
DESCRIPTION:
URL:https://www.theepiphanyschool.org/event/esf-presidents-club-reception/
LOCATION:NY
CATEGORIES:The Epiphany School,The Epiphany Foundation
END:VEVENT
END:VCALENDAR