BEGIN:VCALENDAR
VERSION:2.0
PRODID:-//Epiphany - ECPv6.15.18//NONSGML v1.0//EN
CALSCALE:GREGORIAN
METHOD:PUBLISH
X-ORIGINAL-URL:https://www.theepiphanyschool.org
X-WR-CALDESC:Events for Epiphany
REFRESH-INTERVAL;VALUE=DURATION:PT1H
X-Robots-Tag:noindex
X-PUBLISHED-TTL:PT1H
BEGIN:VTIMEZONE
TZID:America/New_York
BEGIN:DAYLIGHT
TZOFFSETFROM:-0500
TZOFFSETTO:-0400
TZNAME:EDT
DTSTART:20230312T070000
END:DAYLIGHT
BEGIN:STANDARD
TZOFFSETFROM:-0400
TZOFFSETTO:-0500
TZNAME:EST
DTSTART:20231105T060000
END:STANDARD
BEGIN:DAYLIGHT
TZOFFSETFROM:-0500
TZOFFSETTO:-0400
TZNAME:EDT
DTSTART:20240310T070000
END:DAYLIGHT
BEGIN:STANDARD
TZOFFSETFROM:-0400
TZOFFSETTO:-0500
TZNAME:EST
DTSTART:20241103T060000
END:STANDARD
BEGIN:DAYLIGHT
TZOFFSETFROM:-0500
TZOFFSETTO:-0400
TZNAME:EDT
DTSTART:20250309T070000
END:DAYLIGHT
BEGIN:STANDARD
TZOFFSETFROM:-0400
TZOFFSETTO:-0500
TZNAME:EST
DTSTART:20251102T060000
END:STANDARD
END:VTIMEZONE
BEGIN:VEVENT
DTSTART;VALUE=DATE:20241003
DTEND;VALUE=DATE:20241005
DTSTAMP:20260421T075546
CREATED:20240910T185736Z
LAST-MODIFIED:20240910T190153Z
UID:10001803-1727913600-1728086399@www.theepiphanyschool.org
SUMMARY:Rosh Hashanah
DESCRIPTION:
URL:https://www.theepiphanyschool.org/event/rosh-hashanah/
LOCATION:NY
CATEGORIES:The Epiphany School
END:VEVENT
BEGIN:VEVENT
DTSTART;TZID=America/New_York:20241005T120000
DTEND;TZID=America/New_York:20241005T130000
DTSTAMP:20260421T075546
CREATED:20241002T125324Z
LAST-MODIFIED:20241002T125324Z
UID:10001808-1728129600-1728133200@www.theepiphanyschool.org
SUMMARY:The Blessing of the Animals
DESCRIPTION:Please join us on the Epiphany Church Plaza at noon for the Blessing of the Animals\, bring your pets!
URL:https://www.theepiphanyschool.org/event/the-blessing-of-the-animals-2/
LOCATION:The Epiphany Church\, 375 2nd Avenue\, New York\, NY\, 10010\, United States
CATEGORIES:The Epiphany School,The Epiphany Church
END:VEVENT
BEGIN:VEVENT
DTSTART;TZID=America/New_York:20241006T110000
DTEND;TZID=America/New_York:20241006T120000
DTSTAMP:20260421T075546
CREATED:20240531T165139Z
LAST-MODIFIED:20240531T165139Z
UID:10001762-1728212400-1728216000@www.theepiphanyschool.org
SUMMARY:Class Mass\, 2nd & 7th Grades\, 11:00am
DESCRIPTION:Our classes preparing for First Holy Communion and Confirmation share a Class Mass. Please join us.
URL:https://www.theepiphanyschool.org/event/class-mass-2nd-7th-grades-1100am/
LOCATION:The Epiphany Church\, 375 2nd Avenue\, New York\, NY\, 10010\, United States
CATEGORIES:The Epiphany School,The Epiphany Church
END:VEVENT
BEGIN:VEVENT
DTSTART;TZID=America/New_York:20241010T163000
DTEND;TZID=America/New_York:20241010T173000
DTSTAMP:20260421T075546
CREATED:20240531T172917Z
LAST-MODIFIED:20240531T172917Z
UID:10001766-1728577800-1728581400@www.theepiphanyschool.org
SUMMARY:Uniform Exchange\, 4:30
DESCRIPTION:Let’s reuse and recycle!
URL:https://www.theepiphanyschool.org/event/uniform-exchange-430/
LOCATION:Parish Hall\, 375 Second Avenue\, New York\, NY\, 10010\, United States
CATEGORIES:The Epiphany School,Epiphany Family Association
END:VEVENT
BEGIN:VEVENT
DTSTART;TZID=America/New_York:20241010T173000
DTEND;TZID=America/New_York:20241010T183000
DTSTAMP:20260421T075546
CREATED:20240531T172807Z
LAST-MODIFIED:20240531T172807Z
UID:10001765-1728581400-1728585000@www.theepiphanyschool.org
SUMMARY:Town Hall Meeting\, 5:30pm
DESCRIPTION:
URL:https://www.theepiphanyschool.org/event/town-hall-meeting-530pm/
LOCATION:Parish Hall\, 375 Second Avenue\, New York\, NY\, 10010\, United States
CATEGORIES:The Epiphany School,Epiphany Family Association
END:VEVENT
BEGIN:VEVENT
DTSTART;VALUE=DATE:20241011
DTEND;VALUE=DATE:20241012
DTSTAMP:20260421T075546
CREATED:20240524T165117Z
LAST-MODIFIED:20240524T165117Z
UID:10001715-1728604800-1728691199@www.theepiphanyschool.org
SUMMARY:Half Day
DESCRIPTION:
URL:https://www.theepiphanyschool.org/event/half-day-36/
LOCATION:NY
CATEGORIES:The Epiphany School
END:VEVENT
BEGIN:VEVENT
DTSTART;VALUE=DATE:20241012
DTEND;VALUE=DATE:20241013
DTSTAMP:20260421T075546
CREATED:20240910T185646Z
LAST-MODIFIED:20240910T185646Z
UID:10001802-1728691200-1728777599@www.theepiphanyschool.org
SUMMARY:Yom Kippur
DESCRIPTION:
URL:https://www.theepiphanyschool.org/event/yom-kippur/
LOCATION:NY
CATEGORIES:The Epiphany School
END:VEVENT
BEGIN:VEVENT
DTSTART;VALUE=DATE:20241014
DTEND;VALUE=DATE:20241015
DTSTAMP:20260421T075546
CREATED:20240513T153752Z
LAST-MODIFIED:20240513T165628Z
UID:10001685-1728864000-1728950399@www.theepiphanyschool.org
SUMMARY:Columbus/ Indigenous Peoples Day\, School Closed
DESCRIPTION:
URL:https://www.theepiphanyschool.org/event/columbus-indigenous-peoples-day/
LOCATION:NY
CATEGORIES:The Epiphany School
END:VEVENT
BEGIN:VEVENT
DTSTART;VALUE=DATE:20241015
DTEND;VALUE=DATE:20241016
DTSTAMP:20260421T075546
CREATED:20240513T184210Z
LAST-MODIFIED:20240531T172001Z
UID:10001710-1728950400-1729036799@www.theepiphanyschool.org
SUMMARY:Winter Uniforms Begin
DESCRIPTION:
URL:https://www.theepiphanyschool.org/event/winter-uniforms-begin-9/
LOCATION:NY
CATEGORIES:The Epiphany School
END:VEVENT
BEGIN:VEVENT
DTSTART;VALUE=DATE:20241020
DTEND;VALUE=DATE:20241021
DTSTAMP:20260421T075546
CREATED:20240613T154144Z
LAST-MODIFIED:20240613T154144Z
UID:10001785-1729382400-1729468799@www.theepiphanyschool.org
SUMMARY:15th Annual Epiphany School Foundation Walk
DESCRIPTION:
URL:https://www.theepiphanyschool.org/event/15th-annual-epiphany-school-foundation-walk/
LOCATION:22nd Street\, 234 East 22nd Street\, New York\, NY\, 10010\, United States
CATEGORIES:The Epiphany School,The Epiphany Foundation
END:VEVENT
BEGIN:VEVENT
DTSTART;VALUE=DATE:20241023
DTEND;VALUE=DATE:20241024
DTSTAMP:20260421T075546
CREATED:20240531T172126Z
LAST-MODIFIED:20240531T172126Z
UID:10001763-1729641600-1729727999@www.theepiphanyschool.org
SUMMARY:School Closed\, Teacher Conference
DESCRIPTION:
URL:https://www.theepiphanyschool.org/event/school-closed-teacher-conference-5/
LOCATION:NY
CATEGORIES:The Epiphany School
END:VEVENT
BEGIN:VEVENT
DTSTART;TZID=America/New_York:20241025T180000
DTEND;TZID=America/New_York:20241025T203000
DTSTAMP:20260421T075546
CREATED:20240713T201532Z
LAST-MODIFIED:20240713T201532Z
UID:10001790-1729879200-1729888200@www.theepiphanyschool.org
SUMMARY:EFA Family Halloween Party\, 6:00pm
DESCRIPTION:
URL:https://www.theepiphanyschool.org/event/efa-family-halloween-party-600pm-2/
LOCATION:Parish Hall\, 375 Second Avenue\, New York\, NY\, 10010\, United States
CATEGORIES:The Epiphany School,Epiphany Family Association
END:VEVENT
BEGIN:VEVENT
DTSTART;VALUE=DATE:20241031
DTEND;VALUE=DATE:20241101
DTSTAMP:20260421T075546
CREATED:20240513T154130Z
LAST-MODIFIED:20240513T154130Z
UID:10001689-1730332800-1730419199@www.theepiphanyschool.org
SUMMARY:Happy Halloween
DESCRIPTION:
URL:https://www.theepiphanyschool.org/event/happy-halloween-7/
LOCATION:NY
CATEGORIES:The Epiphany School
END:VEVENT
BEGIN:VEVENT
DTSTART;TZID=America/New_York:20241031T090000
DTEND;TZID=America/New_York:20241031T100000
DTSTAMP:20260421T075546
CREATED:20240713T201646Z
LAST-MODIFIED:20240713T201646Z
UID:10001791-1730365200-1730368800@www.theepiphanyschool.org
SUMMARY:Halloween Costume Parade\, 9:00am
DESCRIPTION:
URL:https://www.theepiphanyschool.org/event/halloween-costume-parade-900am/
LOCATION:Lower School Yard\, 234 East 22nd Street\, New York\, NY\, 10010\, United States
CATEGORIES:The Epiphany School,Epiphany Family Association
END:VEVENT
BEGIN:VEVENT
DTSTART;TZID=America/New_York:20241031T180000
DTEND;TZID=America/New_York:20241031T190000
DTSTAMP:20260421T075546
CREATED:20241015T194920Z
LAST-MODIFIED:20241017T175852Z
UID:10001809-1730397600-1730401200@www.theepiphanyschool.org
SUMMARY:"Halloweenie" on the Church Plaza\, 6:00-7:00pm
DESCRIPTION:Celebrate Halloween on the Church Plaza from 6:00-7:00pm.
URL:https://www.theepiphanyschool.org/event/halloween-on-the-church-plaza-600-700pm/
LOCATION:The Epiphany Church\, 375 2nd Avenue\, New York\, NY\, 10010\, United States
CATEGORIES:The Epiphany School,The Epiphany Church
END:VEVENT
END:VCALENDAR