BEGIN:VCALENDAR
VERSION:2.0
PRODID:-//Epiphany - ECPv6.15.18//NONSGML v1.0//EN
CALSCALE:GREGORIAN
METHOD:PUBLISH
X-ORIGINAL-URL:https://www.theepiphanyschool.org
X-WR-CALDESC:Events for Epiphany
REFRESH-INTERVAL;VALUE=DURATION:PT1H
X-Robots-Tag:noindex
X-PUBLISHED-TTL:PT1H
BEGIN:VTIMEZONE
TZID:America/New_York
BEGIN:DAYLIGHT
TZOFFSETFROM:-0500
TZOFFSETTO:-0400
TZNAME:EDT
DTSTART:20240310T070000
END:DAYLIGHT
BEGIN:STANDARD
TZOFFSETFROM:-0400
TZOFFSETTO:-0500
TZNAME:EST
DTSTART:20241103T060000
END:STANDARD
BEGIN:DAYLIGHT
TZOFFSETFROM:-0500
TZOFFSETTO:-0400
TZNAME:EDT
DTSTART:20250309T070000
END:DAYLIGHT
BEGIN:STANDARD
TZOFFSETFROM:-0400
TZOFFSETTO:-0500
TZNAME:EST
DTSTART:20251102T060000
END:STANDARD
BEGIN:DAYLIGHT
TZOFFSETFROM:-0500
TZOFFSETTO:-0400
TZNAME:EDT
DTSTART:20260308T070000
END:DAYLIGHT
BEGIN:STANDARD
TZOFFSETFROM:-0400
TZOFFSETTO:-0500
TZNAME:EST
DTSTART:20261101T060000
END:STANDARD
END:VTIMEZONE
BEGIN:VEVENT
DTSTART;VALUE=DATE:20250126
DTEND;VALUE=DATE:20250202
DTSTAMP:20260421T020313
CREATED:20240513T171721Z
LAST-MODIFIED:20240513T171721Z
UID:10001705-1737849600-1738454399@www.theepiphanyschool.org
SUMMARY:Catholic Schools Week
DESCRIPTION:
URL:https://www.theepiphanyschool.org/event/catholic-schools-week-7/
LOCATION:NY
CATEGORIES:The Epiphany School,The Epiphany Church
END:VEVENT
BEGIN:VEVENT
DTSTART;TZID=America/New_York:20250201T140000
DTEND;TZID=America/New_York:20250201T200000
DTSTAMP:20260421T020313
CREATED:20250108T192452Z
LAST-MODIFIED:20250108T192452Z
UID:10001862-1738418400-1738440000@www.theepiphanyschool.org
SUMMARY:CYO B-Ball\, Home Games: 2:00pm\, 6th Grade Girls; 3:15pm 8th Grade Girls; 4:30pm\, 7th Grade Girls; 5:45pm\, 5th Grade Boys\, 7:00pm\, 8th Grade Boys
DESCRIPTION:
URL:https://www.theepiphanyschool.org/event/cyo-b-ball-home-games-200pm-6th-grade-girls-315pm-8th-grade-girls-430pm-7th-grade-girls-545pm-5th-grade-boys-700pm-8th-grade-boys/
LOCATION:Upper School Gym\, 141 East 28th Street\, New York\, NY\, 10016\, United States
CATEGORIES:The Epiphany School,Epiphany Sports
END:VEVENT
BEGIN:VEVENT
DTSTART;TZID=America/New_York:20250202T110000
DTEND;TZID=America/New_York:20250202T120000
DTSTAMP:20260421T020313
CREATED:20240531T153452Z
LAST-MODIFIED:20240531T153452Z
UID:10001755-1738494000-1738497600@www.theepiphanyschool.org
SUMMARY:Class Mass\, Grades 1st & 4th\, 11:00am
DESCRIPTION:
URL:https://www.theepiphanyschool.org/event/class-mass-grades-1st-4th-1100am/
LOCATION:The Epiphany Church\, 375 2nd Avenue\, New York\, NY\, 10010\, United States
CATEGORIES:The Epiphany School,The Epiphany Church
END:VEVENT
BEGIN:VEVENT
DTSTART;TZID=America/New_York:20250202T140000
DTEND;TZID=America/New_York:20250202T184500
DTSTAMP:20260421T020313
CREATED:20250108T192634Z
LAST-MODIFIED:20250108T192634Z
UID:10001863-1738504800-1738521900@www.theepiphanyschool.org
SUMMARY:CYO B-Ball\, Home Games: 2:00pm\, 6th Grade Boys; 3:15pm\, 5th Grade Boys; 4:40pm\, 8th Grade Girls; 5:45pm\, 5th Grade Girls
DESCRIPTION:
URL:https://www.theepiphanyschool.org/event/cyo-b-ball-home-games-200pm-6th-grade-boys-315pm-5th-grade-boys-440pm-8th-grade-girls-545pm-5th-grade-girls/
LOCATION:Upper School Gym\, 141 East 28th Street\, New York\, NY\, 10016\, United States
CATEGORIES:The Epiphany School,Epiphany Sports
END:VEVENT
BEGIN:VEVENT
DTSTART;TZID=America/New_York:20250204T173000
DTEND;TZID=America/New_York:20250204T194500
DTSTAMP:20260421T020313
CREATED:20250108T192930Z
LAST-MODIFIED:20250108T192930Z
UID:10001864-1738690200-1738698300@www.theepiphanyschool.org
SUMMARY:CYO B-Ball\, Home Games: 5:30pm\, 6th Grade Boys; 6:45\, 8th Grade Boys
DESCRIPTION:
URL:https://www.theepiphanyschool.org/event/cyo-b-ball-home-games-530pm-6th-grade-boys-645-8th-grade-boys/
LOCATION:NY
CATEGORIES:The Epiphany School,Epiphany Sports
END:VEVENT
BEGIN:VEVENT
DTSTART;TZID=America/New_York:20250205T173000
DTEND;TZID=America/New_York:20250205T183000
DTSTAMP:20260421T020313
CREATED:20250108T193109Z
LAST-MODIFIED:20250127T135526Z
UID:10001865-1738776600-1738780200@www.theepiphanyschool.org
SUMMARY:CYO B-Ball\, Home Games: 5:30pm\, 5th Grade Girls; 6:45pm 8th Grade Boys
DESCRIPTION:
URL:https://www.theepiphanyschool.org/event/cyo-b-ball-home-games-530pm-5th-grade-girls/
LOCATION:Upper School Gym\, 141 East 28th Street\, New York\, NY\, 10016\, United States
CATEGORIES:The Epiphany School,Epiphany Sports
END:VEVENT
BEGIN:VEVENT
DTSTART;TZID=America/New_York:20250206T173000
DTEND;TZID=America/New_York:20250206T183000
DTSTAMP:20260421T020313
CREATED:20250108T193227Z
LAST-MODIFIED:20250108T193547Z
UID:10001866-1738863000-1738866600@www.theepiphanyschool.org
SUMMARY:CYO B-Ball\, Home Game: 5:30pm\, 6th Grade Girls
DESCRIPTION:
URL:https://www.theepiphanyschool.org/event/cyo-b-ball-home-games-530pm-6th-grade-girls/
LOCATION:Upper School Gym\, 141 East 28th Street\, New York\, NY\, 10016\, United States
CATEGORIES:The Epiphany School,Epiphany Sports
END:VEVENT
BEGIN:VEVENT
DTSTART;VALUE=DATE:20250207
DTEND;VALUE=DATE:20250208
DTSTAMP:20260421T020313
CREATED:20240531T143428Z
LAST-MODIFIED:20240531T143428Z
UID:10001733-1738886400-1738972799@www.theepiphanyschool.org
SUMMARY:Half Day
DESCRIPTION:Dismissal at 11:30am for all students.
URL:https://www.theepiphanyschool.org/event/half-day-39/
LOCATION:NY
CATEGORIES:The Epiphany School
END:VEVENT
BEGIN:VEVENT
DTSTART;TZID=America/New_York:20250208T140000
DTEND;TZID=America/New_York:20250208T173000
DTSTAMP:20260421T020313
CREATED:20250109T181920Z
LAST-MODIFIED:20250109T181920Z
UID:10001867-1739023200-1739035800@www.theepiphanyschool.org
SUMMARY:CYO B-Ball\, Home Games: 2:00pm\, 6th Grade Boys; 3:15\, 5th Grade Boys; 4:30\, 5th Grade Girls
DESCRIPTION:
URL:https://www.theepiphanyschool.org/event/cyo-b-ball-home-games-200pm-6th-grade-boys-315-5th-grade-boys-430-5th-grade-girls/
LOCATION:Upper School Gym\, 141 East 28th Street\, New York\, NY\, 10016\, United States
CATEGORIES:The Epiphany School,Epiphany Sports
END:VEVENT
BEGIN:VEVENT
DTSTART;VALUE=DATE:20250209
DTEND;VALUE=DATE:20250210
DTSTAMP:20260421T020313
CREATED:20240513T155737Z
LAST-MODIFIED:20240513T160501Z
UID:10001695-1739059200-1739145599@www.theepiphanyschool.org
SUMMARY:Super Bowl LIX
DESCRIPTION:
URL:https://www.theepiphanyschool.org/event/super-bowl-sunday-3/
LOCATION:NY
CATEGORIES:The Epiphany School
END:VEVENT
BEGIN:VEVENT
DTSTART;TZID=America/New_York:20250209T120000
DTEND;TZID=America/New_York:20250209T153000
DTSTAMP:20260421T020313
CREATED:20250109T182115Z
LAST-MODIFIED:20250109T183845Z
UID:10001868-1739102400-1739115000@www.theepiphanyschool.org
SUMMARY:CYO B-Ball\, Home Games: 12:00pm\, 6th Grade Girls; 1:15\, 6th Grade Girls in an Epiphany vs. Epiphany match; 2:30pm 7th Grade Boys
DESCRIPTION:
URL:https://www.theepiphanyschool.org/event/cyo-b-ball-home-games-1200pm-6th-grade-girls-115-6th-grade-girls-in-an-epiphany-vs-epiphany-match-230pm-7th-grade-boys/
LOCATION:Upper School Gym\, 141 East 28th Street\, New York\, NY\, 10016\, United States
CATEGORIES:The Epiphany School,Epiphany Sports
END:VEVENT
BEGIN:VEVENT
DTSTART;TZID=America/New_York:20250210T180000
DTEND;TZID=America/New_York:20250210T190000
DTSTAMP:20260421T020313
CREATED:20250109T182246Z
LAST-MODIFIED:20250109T182246Z
UID:10001869-1739210400-1739214000@www.theepiphanyschool.org
SUMMARY:CYO B-Ball\, Home Game: Epiphany 7th Grade Girls vs. Epiphany 8th Grade Girls\, 6:00pm
DESCRIPTION:
URL:https://www.theepiphanyschool.org/event/cyo-b-ball-home-game-epiphany-7th-grade-girls-vs-epiphany-8th-grade-girls-600pm/
LOCATION:Upper School Gym\, 141 East 28th Street\, New York\, NY\, 10016\, United States
CATEGORIES:The Epiphany School,Epiphany Sports
END:VEVENT
BEGIN:VEVENT
DTSTART;TZID=America/New_York:20250212T173000
DTEND;TZID=America/New_York:20250212T194500
DTSTAMP:20260421T020313
CREATED:20250109T182439Z
LAST-MODIFIED:20250109T182439Z
UID:10001870-1739381400-1739389500@www.theepiphanyschool.org
SUMMARY:CYO B-Ball\, Home Games: 5:30pm\, 5th Grade Boys; 6:45\, Epiphany vs. Epiphany - 6th Grade Girls vs. 5th Grade Girls
DESCRIPTION:
URL:https://www.theepiphanyschool.org/event/cyo-b-ball-home-games-530pm-5th-grade-boys-645-epiphany-vs-epiphany-6th-grade-girls-vs-5th-grade-girls/
LOCATION:Upper School Gym\, 141 East 28th Street\, New York\, NY\, 10016\, United States
CATEGORIES:The Epiphany School,Epiphany Sports
END:VEVENT
BEGIN:VEVENT
DTSTART;TZID=America/New_York:20250213T173000
DTEND;TZID=America/New_York:20250213T183000
DTSTAMP:20260421T020313
CREATED:20250109T182535Z
LAST-MODIFIED:20250109T182535Z
UID:10001871-1739467800-1739471400@www.theepiphanyschool.org
SUMMARY:CYO B-Ball\, Home Game: 5:30pm\, 5th Grade Girls
DESCRIPTION:
URL:https://www.theepiphanyschool.org/event/cyo-b-ball-home-game-530pm-5th-grade-girls-2/
LOCATION:Upper School Gym\, 141 East 28th Street\, New York\, NY\, 10016\, United States
CATEGORIES:The Epiphany School,Epiphany Sports
END:VEVENT
BEGIN:VEVENT
DTSTART;VALUE=DATE:20250214
DTEND;VALUE=DATE:20250215
DTSTAMP:20260421T020313
CREATED:20240513T165846Z
LAST-MODIFIED:20240513T170413Z
UID:10001699-1739491200-1739577599@www.theepiphanyschool.org
SUMMARY:Happy Valentine's Day
DESCRIPTION:
URL:https://www.theepiphanyschool.org/event/happy-valentines-day/
LOCATION:NY
CATEGORIES:The Epiphany School
END:VEVENT
BEGIN:VEVENT
DTSTART;VALUE=DATE:20250217
DTEND;VALUE=DATE:20250222
DTSTAMP:20260421T020313
CREATED:20240531T152411Z
LAST-MODIFIED:20240531T152411Z
UID:10001753-1739750400-1740182399@www.theepiphanyschool.org
SUMMARY:Winter Vacation\, School Closed
DESCRIPTION:
URL:https://www.theepiphanyschool.org/event/winter-vacation-school-closed/
LOCATION:NY
CATEGORIES:The Epiphany School
END:VEVENT
BEGIN:VEVENT
DTSTART;VALUE=DATE:20250222
DTEND;VALUE=DATE:20250223
DTSTAMP:20260421T020313
CREATED:20250210T172745Z
LAST-MODIFIED:20250210T172830Z
UID:10001877-1740182400-1740268799@www.theepiphanyschool.org
SUMMARY:CYO Basketball Playoffs at Xavier High School
DESCRIPTION:Schedule to be determined.
URL:https://www.theepiphanyschool.org/event/cyo-basketball-playoffs-at-xavier-high-school/
LOCATION:Xavier H.S. Gym\, 30 West 16th Street\, New York\, NY\, 10011\, United States
CATEGORIES:The Epiphany School,Epiphany Sports
END:VEVENT
BEGIN:VEVENT
DTSTART;TZID=America/New_York:20250228T180000
DTEND;TZID=America/New_York:20250228T200000
DTSTAMP:20260421T020313
CREATED:20240531T152516Z
LAST-MODIFIED:20240531T152516Z
UID:10001754-1740765600-1740772800@www.theepiphanyschool.org
SUMMARY:EFA Family Dance\, 6:00pm
DESCRIPTION:
URL:https://www.theepiphanyschool.org/event/efa-family-dance-600pm/
LOCATION:NY
CATEGORIES:The Epiphany School,Epiphany Family Association
END:VEVENT
END:VCALENDAR