BEGIN:VCALENDAR
VERSION:2.0
PRODID:-//Epiphany - ECPv6.15.18//NONSGML v1.0//EN
CALSCALE:GREGORIAN
METHOD:PUBLISH
X-ORIGINAL-URL:https://www.theepiphanyschool.org
X-WR-CALDESC:Events for Epiphany
REFRESH-INTERVAL;VALUE=DURATION:PT1H
X-Robots-Tag:noindex
X-PUBLISHED-TTL:PT1H
BEGIN:VTIMEZONE
TZID:America/New_York
BEGIN:DAYLIGHT
TZOFFSETFROM:-0500
TZOFFSETTO:-0400
TZNAME:EDT
DTSTART:20240310T070000
END:DAYLIGHT
BEGIN:STANDARD
TZOFFSETFROM:-0400
TZOFFSETTO:-0500
TZNAME:EST
DTSTART:20241103T060000
END:STANDARD
BEGIN:DAYLIGHT
TZOFFSETFROM:-0500
TZOFFSETTO:-0400
TZNAME:EDT
DTSTART:20250309T070000
END:DAYLIGHT
BEGIN:STANDARD
TZOFFSETFROM:-0400
TZOFFSETTO:-0500
TZNAME:EST
DTSTART:20251102T060000
END:STANDARD
BEGIN:DAYLIGHT
TZOFFSETFROM:-0500
TZOFFSETTO:-0400
TZNAME:EDT
DTSTART:20260308T070000
END:DAYLIGHT
BEGIN:STANDARD
TZOFFSETFROM:-0400
TZOFFSETTO:-0500
TZNAME:EST
DTSTART:20261101T060000
END:STANDARD
END:VTIMEZONE
BEGIN:VEVENT
DTSTART;VALUE=DATE:20250301
DTEND;VALUE=DATE:20250302
DTSTAMP:20260421T002316
CREATED:20240912T180058Z
LAST-MODIFIED:20240912T180058Z
UID:10001806-1740787200-1740873599@www.theepiphanyschool.org
SUMMARY:Ramadan Begins
DESCRIPTION:
URL:https://www.theepiphanyschool.org/event/ramadan-begins/
LOCATION:NY
CATEGORIES:The Epiphany School
END:VEVENT
BEGIN:VEVENT
DTSTART;TZID=America/New_York:20250302T110000
DTEND;TZID=America/New_York:20250302T120000
DTSTAMP:20260421T002316
CREATED:20240531T164741Z
LAST-MODIFIED:20240531T164741Z
UID:10001760-1740913200-1740916800@www.theepiphanyschool.org
SUMMARY:Class Mass\, Kindergarten & 3rd Grade\, 11:00am
DESCRIPTION:
URL:https://www.theepiphanyschool.org/event/class-mass-kindergarten-3rd-grade-1100am/
LOCATION:The Epiphany Church\, 375 2nd Avenue\, New York\, NY\, 10010\, United States
CATEGORIES:The Epiphany School,The Epiphany Church
END:VEVENT
BEGIN:VEVENT
DTSTART;VALUE=DATE:20250305
DTEND;VALUE=DATE:20250306
DTSTAMP:20260421T002316
CREATED:20240513T172001Z
LAST-MODIFIED:20250228T144130Z
UID:10001706-1741132800-1741219199@www.theepiphanyschool.org
SUMMARY:Ash Wednesday\, Lent Begins: Mass at 8:45am for students K - 8th; Upper School students meet in the Parish Hall at 8:30am
DESCRIPTION:
URL:https://www.theepiphanyschool.org/event/ash-wednesday-lent-begins/
LOCATION:NY
CATEGORIES:The Epiphany School,The Epiphany Church
END:VEVENT
BEGIN:VEVENT
DTSTART;VALUE=DATE:20250309
DTEND;VALUE=DATE:20250310
DTSTAMP:20260421T002316
CREATED:20240531T153653Z
LAST-MODIFIED:20240531T153653Z
UID:10001756-1741478400-1741564799@www.theepiphanyschool.org
SUMMARY:Daylight Saving Time Begins
DESCRIPTION:Sunday\, March 9\, 2025\, 2:00:00 am clocks are turned forward 1 hour to\nSunday\, March 9\, 2025\, 3:00:00 am local daylight time instead.
URL:https://www.theepiphanyschool.org/event/daylight-saving-time-begins-6/
LOCATION:NY
CATEGORIES:The Epiphany School
END:VEVENT
BEGIN:VEVENT
DTSTART;TZID=America/New_York:20250309T160000
DTEND;TZID=America/New_York:20250309T190000
DTSTAMP:20260421T002316
CREATED:20240713T203808Z
LAST-MODIFIED:20250228T145146Z
UID:10001796-1741536000-1741546800@www.theepiphanyschool.org
SUMMARY:Intramural Basketball Dinner\, 4:00pm
DESCRIPTION:
URL:https://www.theepiphanyschool.org/event/intramural-basketball-dinner-400pm-2/
LOCATION:Parish Hall\, 375 Second Avenue\, New York\, NY\, 10010\, United States
CATEGORIES:The Epiphany School,Epiphany Sports
END:VEVENT
BEGIN:VEVENT
DTSTART;VALUE=DATE:20250313
DTEND;VALUE=DATE:20250314
DTSTAMP:20260421T002316
CREATED:20240531T142955Z
LAST-MODIFIED:20240531T142955Z
UID:10001729-1741824000-1741910399@www.theepiphanyschool.org
SUMMARY:Upper School Science Fair
DESCRIPTION:
URL:https://www.theepiphanyschool.org/event/upper-school-science-fair-3/
LOCATION:Upper School Gym\, 141 East 28th Street\, New York\, NY\, 10016\, United States
CATEGORIES:The Epiphany School
END:VEVENT
BEGIN:VEVENT
DTSTART;VALUE=DATE:20250314
DTEND;VALUE=DATE:20250315
DTSTAMP:20260421T002316
CREATED:20240531T143040Z
LAST-MODIFIED:20240531T143040Z
UID:10001730-1741910400-1741996799@www.theepiphanyschool.org
SUMMARY:School Closed\, Teacher Conference
DESCRIPTION:
URL:https://www.theepiphanyschool.org/event/school-closed-teacher-conference-4/
LOCATION:NY
CATEGORIES:The Epiphany School
END:VEVENT
BEGIN:VEVENT
DTSTART;VALUE=DATE:20250314
DTEND;VALUE=DATE:20250315
DTSTAMP:20260421T002316
CREATED:20240531T193142Z
LAST-MODIFIED:20240531T193405Z
UID:10001770-1741910400-1741996799@www.theepiphanyschool.org
SUMMARY:It's Pi Day
DESCRIPTION:
URL:https://www.theepiphanyschool.org/event/its-pi-day-2/
LOCATION:NY
CATEGORIES:The Epiphany School
END:VEVENT
BEGIN:VEVENT
DTSTART;VALUE=DATE:20250314
DTEND;VALUE=DATE:20250315
DTSTAMP:20260421T002316
CREATED:20241025T133406Z
LAST-MODIFIED:20241025T133406Z
UID:10001811-1741910400-1741996799@www.theepiphanyschool.org
SUMMARY:Holi
DESCRIPTION:Holi is the Hindu festival celebrated as the Festival of Colors\, Love\, and Spring. The day signifies the triumph of good over evil.
URL:https://www.theepiphanyschool.org/event/holi/
LOCATION:NY
CATEGORIES:The Epiphany School
END:VEVENT
BEGIN:VEVENT
DTSTART;TZID=America/New_York:20250314T190000
DTEND;TZID=America/New_York:20250314T200000
DTSTAMP:20260421T002316
CREATED:20250312T190628Z
LAST-MODIFIED:20250312T191026Z
UID:10001880-1741978800-1741982400@www.theepiphanyschool.org
SUMMARY:Stations of the Cross
DESCRIPTION:
URL:https://www.theepiphanyschool.org/event/stations-of-the-cross-2/
LOCATION:The Epiphany Church\, 375 2nd Avenue\, New York\, NY\, 10010\, United States
CATEGORIES:The Epiphany School,The Epiphany Church
END:VEVENT
BEGIN:VEVENT
DTSTART;VALUE=DATE:20250316
DTEND;VALUE=DATE:20250317
DTSTAMP:20260421T002316
CREATED:20241025T133916Z
LAST-MODIFIED:20241025T133916Z
UID:10001812-1742083200-1742169599@www.theepiphanyschool.org
SUMMARY:Purim
DESCRIPTION:Purim commemorates the salvation of the Jewish people in the ancient Persian empire as told in the Book of Esther.
URL:https://www.theepiphanyschool.org/event/purim/
LOCATION:NY
CATEGORIES:The Epiphany School
END:VEVENT
BEGIN:VEVENT
DTSTART;VALUE=DATE:20250317
DTEND;VALUE=DATE:20250318
DTSTAMP:20260421T002316
CREATED:20240610T164057Z
LAST-MODIFIED:20250303T190916Z
UID:10001780-1742169600-1742255999@www.theepiphanyschool.org
SUMMARY:School Closed
DESCRIPTION:School will be closed today.
URL:https://www.theepiphanyschool.org/event/school-closed-if-snow-days-are-not-used/
LOCATION:NY
CATEGORIES:The Epiphany School
END:VEVENT
BEGIN:VEVENT
DTSTART;TZID=America/New_York:20250321T190000
DTEND;TZID=America/New_York:20250321T200000
DTSTAMP:20260421T002316
CREATED:20250312T190737Z
LAST-MODIFIED:20250312T190737Z
UID:10001881-1742583600-1742587200@www.theepiphanyschool.org
SUMMARY:Stations of the Cross
DESCRIPTION:
URL:https://www.theepiphanyschool.org/event/stations-of-the-cross-3/
LOCATION:The Epiphany Church\, 375 2nd Avenue\, New York\, NY\, 10010\, United States
CATEGORIES:The Epiphany School,The Epiphany Church
END:VEVENT
BEGIN:VEVENT
DTSTART;VALUE=DATE:20250324
DTEND;VALUE=DATE:20250326
DTSTAMP:20260421T002316
CREATED:20240531T155310Z
LAST-MODIFIED:20240531T155310Z
UID:10001757-1742774400-1742947199@www.theepiphanyschool.org
SUMMARY:Book Fair\, ECC & Upper School
DESCRIPTION:
URL:https://www.theepiphanyschool.org/event/book-fair-ecc-upper-school/
LOCATION:NY
CATEGORIES:The Epiphany School
END:VEVENT
BEGIN:VEVENT
DTSTART;VALUE=DATE:20250326
DTEND;VALUE=DATE:20250327
DTSTAMP:20260421T002316
CREATED:20240531T145627Z
LAST-MODIFIED:20240531T145627Z
UID:10001742-1742947200-1743033599@www.theepiphanyschool.org
SUMMARY:Book Character Day
DESCRIPTION:Dress as you favorite character for a book.
URL:https://www.theepiphanyschool.org/event/book-character-day-3/
LOCATION:NY
CATEGORIES:The Epiphany School
END:VEVENT
BEGIN:VEVENT
DTSTART;VALUE=DATE:20250327
DTEND;VALUE=DATE:20250329
DTSTAMP:20260421T002316
CREATED:20240531T155348Z
LAST-MODIFIED:20240531T155348Z
UID:10001758-1743033600-1743206399@www.theepiphanyschool.org
SUMMARY:Book Fair\, Lower School
DESCRIPTION:
URL:https://www.theepiphanyschool.org/event/book-fair-lower-school-3/
LOCATION:NY
CATEGORIES:The Epiphany School
END:VEVENT
BEGIN:VEVENT
DTSTART;VALUE=DATE:20250328
DTEND;VALUE=DATE:20250329
DTSTAMP:20260421T002316
CREATED:20250326T222846Z
LAST-MODIFIED:20250326T222846Z
UID:10001886-1743120000-1743206399@www.theepiphanyschool.org
SUMMARY:Dress Down Day
DESCRIPTION:
URL:https://www.theepiphanyschool.org/event/dress-down-day-2/
LOCATION:NY
CATEGORIES:The Epiphany School
END:VEVENT
BEGIN:VEVENT
DTSTART;TZID=America/New_York:20250328T190000
DTEND;TZID=America/New_York:20250328T200000
DTSTAMP:20260421T002316
CREATED:20250312T190837Z
LAST-MODIFIED:20250312T190837Z
UID:10001882-1743188400-1743192000@www.theepiphanyschool.org
SUMMARY:Stations of the Cross
DESCRIPTION:
URL:https://www.theepiphanyschool.org/event/stations-of-the-cross-4/
LOCATION:The Epiphany Church\, 375 2nd Avenue\, New York\, NY\, 10010\, United States
CATEGORIES:The Epiphany School,The Epiphany Church
END:VEVENT
BEGIN:VEVENT
DTSTART;VALUE=DATE:20250331
DTEND;VALUE=DATE:20250401
DTSTAMP:20260421T002316
CREATED:20250324T194410Z
LAST-MODIFIED:20250324T194410Z
UID:10001885-1743379200-1743465599@www.theepiphanyschool.org
SUMMARY:CYO Track Season Begins
DESCRIPTION:
URL:https://www.theepiphanyschool.org/event/cyo-track-season-begins/
LOCATION:NY
CATEGORIES:The Epiphany School,Epiphany Sports
END:VEVENT
END:VCALENDAR