BEGIN:VCALENDAR
VERSION:2.0
PRODID:-//Epiphany - ECPv6.15.18//NONSGML v1.0//EN
CALSCALE:GREGORIAN
METHOD:PUBLISH
X-WR-CALNAME:Epiphany
X-ORIGINAL-URL:https://www.theepiphanyschool.org
X-WR-CALDESC:Events for Epiphany
REFRESH-INTERVAL;VALUE=DURATION:PT1H
X-Robots-Tag:noindex
X-PUBLISHED-TTL:PT1H
BEGIN:VTIMEZONE
TZID:America/New_York
BEGIN:DAYLIGHT
TZOFFSETFROM:-0500
TZOFFSETTO:-0400
TZNAME:EDT
DTSTART:20240310T070000
END:DAYLIGHT
BEGIN:STANDARD
TZOFFSETFROM:-0400
TZOFFSETTO:-0500
TZNAME:EST
DTSTART:20241103T060000
END:STANDARD
BEGIN:DAYLIGHT
TZOFFSETFROM:-0500
TZOFFSETTO:-0400
TZNAME:EDT
DTSTART:20250309T070000
END:DAYLIGHT
BEGIN:STANDARD
TZOFFSETFROM:-0400
TZOFFSETTO:-0500
TZNAME:EST
DTSTART:20251102T060000
END:STANDARD
BEGIN:DAYLIGHT
TZOFFSETFROM:-0500
TZOFFSETTO:-0400
TZNAME:EDT
DTSTART:20260308T070000
END:DAYLIGHT
BEGIN:STANDARD
TZOFFSETFROM:-0400
TZOFFSETTO:-0500
TZNAME:EST
DTSTART:20261101T060000
END:STANDARD
END:VTIMEZONE
BEGIN:VEVENT
DTSTART;VALUE=DATE:20250403
DTEND;VALUE=DATE:20250404
DTSTAMP:20260420T224706
CREATED:20240713T201336Z
LAST-MODIFIED:20240713T201336Z
UID:10001789-1743638400-1743724799@www.theepiphanyschool.org
SUMMARY:Annual Spring Benefit
DESCRIPTION:
URL:https://www.theepiphanyschool.org/event/annual-spring-benefit-2/
LOCATION:NY
CATEGORIES:The Epiphany School,The Epiphany Foundation
END:VEVENT
BEGIN:VEVENT
DTSTART;TZID=America/New_York:20250404T190000
DTEND;TZID=America/New_York:20250404T200000
DTSTAMP:20260420T224706
CREATED:20250312T190943Z
LAST-MODIFIED:20250312T190943Z
UID:10001883-1743793200-1743796800@www.theepiphanyschool.org
SUMMARY:Stations of the Cross
DESCRIPTION:
URL:https://www.theepiphanyschool.org/event/stations-of-the-cross-5/
LOCATION:The Epiphany Church\, 375 2nd Avenue\, New York\, NY\, 10010\, United States
CATEGORIES:The Epiphany School,The Epiphany Church
END:VEVENT
BEGIN:VEVENT
DTSTART;TZID=America/New_York:20250405T110000
DTEND;TZID=America/New_York:20250405T120000
DTSTAMP:20260420T224706
CREATED:20240531T150509Z
LAST-MODIFIED:20240531T150509Z
UID:10001746-1743850800-1743854400@www.theepiphanyschool.org
SUMMARY:First Reconciliation\, 11:00am
DESCRIPTION:
URL:https://www.theepiphanyschool.org/event/first-reconciliation-1100am-3/
LOCATION:NY
CATEGORIES:The Epiphany School,The Epiphany Church
END:VEVENT
BEGIN:VEVENT
DTSTART;TZID=America/New_York:20250406T110000
DTEND;TZID=America/New_York:20250406T120000
DTSTAMP:20260420T224706
CREATED:20240531T150336Z
LAST-MODIFIED:20240531T150336Z
UID:10001745-1743937200-1743940800@www.theepiphanyschool.org
SUMMARY:Class Mass Toddler Twos & 8th Grade\, 11:00am
DESCRIPTION:
URL:https://www.theepiphanyschool.org/event/class-mass-toddler-twos-8th-grade-1100am/
LOCATION:The Epiphany Church\, 375 2nd Avenue\, New York\, NY\, 10010\, United States
CATEGORIES:The Epiphany School,The Epiphany Church
END:VEVENT
BEGIN:VEVENT
DTSTART;VALUE=DATE:20250411
DTEND;VALUE=DATE:20250412
DTSTAMP:20260420T224706
CREATED:20250331T124335Z
LAST-MODIFIED:20250401T181910Z
UID:10001887-1744329600-1744415999@www.theepiphanyschool.org
SUMMARY:Guys & Dolls Jr.\, 7:00pm
DESCRIPTION:
URL:https://www.theepiphanyschool.org/event/guys-dolls-700pm/
LOCATION:Upper School Gym\, 141 East 28th Street\, New York\, NY\, 10016\, United States
END:VEVENT
BEGIN:VEVENT
DTSTART;VALUE=DATE:20250411
DTEND;VALUE=DATE:20250413
DTSTAMP:20260420T224706
CREATED:20240531T143712Z
LAST-MODIFIED:20240531T143712Z
UID:10001735-1744329600-1744502399@www.theepiphanyschool.org
SUMMARY:40th Annual Spring Musical
DESCRIPTION:
URL:https://www.theepiphanyschool.org/event/40th-annual-spring-musical/
LOCATION:NY
CATEGORIES:The Epiphany School
END:VEVENT
BEGIN:VEVENT
DTSTART;VALUE=DATE:20250412
DTEND;VALUE=DATE:20250413
DTSTAMP:20260420T224706
CREATED:20250401T181800Z
LAST-MODIFIED:20250401T181800Z
UID:10001888-1744416000-1744502399@www.theepiphanyschool.org
SUMMARY:Guys & Dolls Jr.\, 2:00pm and 7:00pm
DESCRIPTION:
URL:https://www.theepiphanyschool.org/event/guys-dolls-jr-200pm-and-700pm/
LOCATION:Upper School Gym\, 141 East 28th Street\, New York\, NY\, 10016\, United States
CATEGORIES:The Epiphany School
END:VEVENT
BEGIN:VEVENT
DTSTART;VALUE=DATE:20250413
DTEND;VALUE=DATE:20250414
DTSTAMP:20260420T224706
CREATED:20240531T150231Z
LAST-MODIFIED:20240531T150231Z
UID:10001744-1744502400-1744588799@www.theepiphanyschool.org
SUMMARY:Palm Sunday
DESCRIPTION:
URL:https://www.theepiphanyschool.org/event/palm-sunday-8/
LOCATION:NY
CATEGORIES:The Epiphany School,The Epiphany Church
END:VEVENT
BEGIN:VEVENT
DTSTART;VALUE=DATE:20250416
DTEND;VALUE=DATE:20250417
DTSTAMP:20260420T224706
CREATED:20240610T163040Z
LAST-MODIFIED:20240610T163040Z
UID:10001775-1744761600-1744847999@www.theepiphanyschool.org
SUMMARY:Half Day
DESCRIPTION:11:30 dismissal for all students. Easter vacation begins.
URL:https://www.theepiphanyschool.org/event/half-day-42/
LOCATION:NY
CATEGORIES:The Epiphany School
END:VEVENT
BEGIN:VEVENT
DTSTART;TZID=America/New_York:20250416T083000
DTEND;TZID=America/New_York:20250416T100000
DTSTAMP:20260420T224706
CREATED:20240531T151335Z
LAST-MODIFIED:20240531T151335Z
UID:10001751-1744792200-1744797600@www.theepiphanyschool.org
SUMMARY:Stations of the Cross: students 1st - 8th; Upper School students meet in the Parish Hall at 8:30am
DESCRIPTION:
URL:https://www.theepiphanyschool.org/event/stations-of-the-cross-students-1st-8th-upper-school-students-meet-in-the-parish-hall-at-830am/
LOCATION:NY
CATEGORIES:The Epiphany School,The Epiphany Church
END:VEVENT
BEGIN:VEVENT
DTSTART;VALUE=DATE:20250417
DTEND;VALUE=DATE:20250418
DTSTAMP:20260420T224706
CREATED:20240531T150638Z
LAST-MODIFIED:20240531T150638Z
UID:10001748-1744848000-1744934399@www.theepiphanyschool.org
SUMMARY:Holy Thursday\, School Closed
DESCRIPTION:
URL:https://www.theepiphanyschool.org/event/holy-thursday-school-closed-3/
LOCATION:NY
CATEGORIES:The Epiphany School,The Epiphany Church
END:VEVENT
BEGIN:VEVENT
DTSTART;VALUE=DATE:20250418
DTEND;VALUE=DATE:20250419
DTSTAMP:20260420T224706
CREATED:20240531T150712Z
LAST-MODIFIED:20240531T150712Z
UID:10001749-1744934400-1745020799@www.theepiphanyschool.org
SUMMARY:Good Friday\, School Closed
DESCRIPTION:
URL:https://www.theepiphanyschool.org/event/good-friday-school-closed-3/
LOCATION:NY
CATEGORIES:The Epiphany School,The Epiphany Church
END:VEVENT
BEGIN:VEVENT
DTSTART;VALUE=DATE:20250420
DTEND;VALUE=DATE:20250421
DTSTAMP:20260420T224706
CREATED:20240513T172047Z
LAST-MODIFIED:20240513T172047Z
UID:10001707-1745107200-1745193599@www.theepiphanyschool.org
SUMMARY:Easter Sunday
DESCRIPTION:
URL:https://www.theepiphanyschool.org/event/easter-sunday-5/
LOCATION:NY
CATEGORIES:The Epiphany School,The Epiphany Church
END:VEVENT
BEGIN:VEVENT
DTSTART;VALUE=DATE:20250421
DTEND;VALUE=DATE:20250426
DTSTAMP:20260420T224706
CREATED:20240531T150756Z
LAST-MODIFIED:20240531T150756Z
UID:10001750-1745193600-1745625599@www.theepiphanyschool.org
SUMMARY:Easter Vacation School Closed
DESCRIPTION:
URL:https://www.theepiphanyschool.org/event/easter-vacation-school-closed-3/
LOCATION:NY
CATEGORIES:The Epiphany School
END:VEVENT
BEGIN:VEVENT
DTSTART;VALUE=DATE:20250422
DTEND;VALUE=DATE:20250423
DTSTAMP:20260420T224706
CREATED:20250324T154626Z
LAST-MODIFIED:20250324T154626Z
UID:10001884-1745280000-1745366399@www.theepiphanyschool.org
SUMMARY:Earth Day
DESCRIPTION:
URL:https://www.theepiphanyschool.org/event/earth-day-5/
LOCATION:NY
CATEGORIES:The Epiphany School,The Epiphany Church
END:VEVENT
BEGIN:VEVENT
DTSTART;VALUE=DATE:20250428
DTEND;VALUE=DATE:20250429
DTSTAMP:20260420T224706
CREATED:20240610T164315Z
LAST-MODIFIED:20240610T164315Z
UID:10001782-1745798400-1745884799@www.theepiphanyschool.org
SUMMARY:School Resumes
DESCRIPTION:
URL:https://www.theepiphanyschool.org/event/school-resumes-9/
LOCATION:NY
CATEGORIES:The Epiphany School
END:VEVENT
BEGIN:VEVENT
DTSTART;VALUE=DATE:20250429
DTEND;VALUE=DATE:20250501
DTSTAMP:20260420T224706
CREATED:20240531T143509Z
LAST-MODIFIED:20240718T165249Z
UID:10001734-1745884800-1746057599@www.theepiphanyschool.org
SUMMARY:New York State ELA Test
DESCRIPTION:
URL:https://www.theepiphanyschool.org/event/new-york-state-ela-test/
LOCATION:NY
CATEGORIES:Test Events,The Epiphany School
END:VEVENT
END:VCALENDAR