BEGIN:VCALENDAR
VERSION:2.0
PRODID:-//Epiphany - ECPv6.15.18//NONSGML v1.0//EN
CALSCALE:GREGORIAN
METHOD:PUBLISH
X-WR-CALNAME:Epiphany
X-ORIGINAL-URL:https://www.theepiphanyschool.org
X-WR-CALDESC:Events for Epiphany
REFRESH-INTERVAL;VALUE=DURATION:PT1H
X-Robots-Tag:noindex
X-PUBLISHED-TTL:PT1H
BEGIN:VTIMEZONE
TZID:America/New_York
BEGIN:DAYLIGHT
TZOFFSETFROM:-0500
TZOFFSETTO:-0400
TZNAME:EDT
DTSTART:20240310T070000
END:DAYLIGHT
BEGIN:STANDARD
TZOFFSETFROM:-0400
TZOFFSETTO:-0500
TZNAME:EST
DTSTART:20241103T060000
END:STANDARD
BEGIN:DAYLIGHT
TZOFFSETFROM:-0500
TZOFFSETTO:-0400
TZNAME:EDT
DTSTART:20250309T070000
END:DAYLIGHT
BEGIN:STANDARD
TZOFFSETFROM:-0400
TZOFFSETTO:-0500
TZNAME:EST
DTSTART:20251102T060000
END:STANDARD
BEGIN:DAYLIGHT
TZOFFSETFROM:-0500
TZOFFSETTO:-0400
TZNAME:EDT
DTSTART:20260308T070000
END:DAYLIGHT
BEGIN:STANDARD
TZOFFSETFROM:-0400
TZOFFSETTO:-0500
TZNAME:EST
DTSTART:20261101T060000
END:STANDARD
END:VTIMEZONE
BEGIN:VEVENT
DTSTART;VALUE=DATE:20250502
DTEND;VALUE=DATE:20250503
DTSTAMP:20260420T210242
CREATED:20240610T163343Z
LAST-MODIFIED:20240610T163343Z
UID:10001776-1746144000-1746230399@www.theepiphanyschool.org
SUMMARY:Half Day
DESCRIPTION:11:30am dismissal for all students.
URL:https://www.theepiphanyschool.org/event/half-day-43/
LOCATION:NY
CATEGORIES:The Epiphany School
END:VEVENT
BEGIN:VEVENT
DTSTART;TZID=America/New_York:20250503T130000
DTEND;TZID=America/New_York:20250503T143000
DTSTAMP:20260420T210242
CREATED:20250430T145840Z
LAST-MODIFIED:20250430T150007Z
UID:10001889-1746277200-1746282600@www.theepiphanyschool.org
SUMMARY:Requiem Mass honoring Pope Francis’s life and legacy followed by a simple reception in the Narthex\, 1:00pm
DESCRIPTION:
URL:https://www.theepiphanyschool.org/event/requiem-mass-honoring-pope-franciss-life-and-legacy-followed-by-a-simple-reception-in-the-narthex/
LOCATION:The Epiphany Church
CATEGORIES:The Epiphany School,The Epiphany Church
END:VEVENT
BEGIN:VEVENT
DTSTART;TZID=America/New_York:20250504T110000
DTEND;TZID=America/New_York:20250504T123000
DTSTAMP:20260420T210242
CREATED:20250311T140708Z
LAST-MODIFIED:20250430T150151Z
UID:10001879-1746356400-1746361800@www.theepiphanyschool.org
SUMMARY:Class Mass\, 2nd & 7th Grades\, 11:00am
DESCRIPTION:Our classes preparing for First Holy Communion and Confirmation share a class mass. Mass will be followed by the Crowning of the Blessed Virgin Mary. Please join us.
URL:https://www.theepiphanyschool.org/event/class-mass-2nd-7th-grades-1100am-2/
LOCATION:NY
CATEGORIES:The Epiphany School,The Epiphany Church
END:VEVENT
BEGIN:VEVENT
DTSTART;VALUE=DATE:20250505
DTEND;VALUE=DATE:20250506
DTSTAMP:20260420T210242
CREATED:20240531T193111Z
LAST-MODIFIED:20240531T193111Z
UID:10001769-1746403200-1746489599@www.theepiphanyschool.org
SUMMARY:Cinco de Mayo
DESCRIPTION:
URL:https://www.theepiphanyschool.org/event/cinco-de-mayo-3/
LOCATION:NY
CATEGORIES:The Epiphany School
END:VEVENT
BEGIN:VEVENT
DTSTART;VALUE=DATE:20250507
DTEND;VALUE=DATE:20250509
DTSTAMP:20260420T210242
CREATED:20240531T143221Z
LAST-MODIFIED:20240718T165317Z
UID:10001732-1746576000-1746748799@www.theepiphanyschool.org
SUMMARY:New York State Math Test
DESCRIPTION:
URL:https://www.theepiphanyschool.org/event/new-york-state-math-test/
LOCATION:NY
CATEGORIES:Test Events,The Epiphany School
END:VEVENT
BEGIN:VEVENT
DTSTART;TZID=America/New_York:20250508T180000
DTEND;TZID=America/New_York:20250508T193000
DTSTAMP:20260420T210242
CREATED:20240713T204414Z
LAST-MODIFIED:20240713T204414Z
UID:10001799-1746727200-1746732600@www.theepiphanyschool.org
SUMMARY:Confirmation\, 6:00pm
DESCRIPTION:
URL:https://www.theepiphanyschool.org/event/confirmation-600pm/
LOCATION:The Epiphany Church\, 375 2nd Avenue\, New York\, NY\, 10010\, United States
CATEGORIES:The Epiphany School,The Epiphany Church
END:VEVENT
BEGIN:VEVENT
DTSTART;TZID=America/New_York:20250509T163000
DTEND;TZID=America/New_York:20250509T183000
DTSTAMP:20260420T210242
CREATED:20250311T140056Z
LAST-MODIFIED:20250430T171744Z
UID:10001878-1746808200-1746815400@www.theepiphanyschool.org
SUMMARY:5th & 6th Grade Party\, Radio Bingo!
DESCRIPTION:
URL:https://www.theepiphanyschool.org/event/5th-6th-grade-party-5/
LOCATION:Parish Hall\, 375 Second Avenue\, New York\, NY\, 10010\, United States
CATEGORIES:The Epiphany School,Epiphany Family Association
END:VEVENT
BEGIN:VEVENT
DTSTART;VALUE=DATE:20250511
DTEND;VALUE=DATE:20250512
DTSTAMP:20260420T210242
CREATED:20240531T145452Z
LAST-MODIFIED:20240531T145452Z
UID:10001740-1746921600-1747007999@www.theepiphanyschool.org
SUMMARY:Mother's Day
DESCRIPTION:
URL:https://www.theepiphanyschool.org/event/mothers-day-8/
LOCATION:NY
CATEGORIES:The Epiphany School
END:VEVENT
BEGIN:VEVENT
DTSTART;VALUE=DATE:20250512
DTEND;VALUE=DATE:20250513
DTSTAMP:20260420T210242
CREATED:20240531T143125Z
LAST-MODIFIED:20240531T143125Z
UID:10001731-1747008000-1747094399@www.theepiphanyschool.org
SUMMARY:Summer Uniforms Begin
DESCRIPTION:
URL:https://www.theepiphanyschool.org/event/summer-uniforms-begin-9/
LOCATION:NY
CATEGORIES:The Epiphany School
END:VEVENT
BEGIN:VEVENT
DTSTART;VALUE=DATE:20250512
DTEND;VALUE=DATE:20250513
DTSTAMP:20260420T210242
CREATED:20240613T154312Z
LAST-MODIFIED:20240613T154312Z
UID:10001786-1747008000-1747094399@www.theepiphanyschool.org
SUMMARY:30th Annual ESF Golf Outing
DESCRIPTION:
URL:https://www.theepiphanyschool.org/event/30th-annual-esf-golf-outing/
LOCATION:NY
CATEGORIES:The Epiphany School,The Epiphany Foundation
END:VEVENT
BEGIN:VEVENT
DTSTART;TZID=America/New_York:20250514T080000
DTEND;TZID=America/New_York:20250514T093000
DTSTAMP:20260420T210242
CREATED:20240713T204206Z
LAST-MODIFIED:20250311T140948Z
UID:10001797-1747209600-1747215000@www.theepiphanyschool.org
SUMMARY:Town Hall &Uniform Exchange\, 8:00am
DESCRIPTION:
URL:https://www.theepiphanyschool.org/event/uniform-exchange-800am-3/
LOCATION:NY
CATEGORIES:The Epiphany School,Epiphany Family Association
END:VEVENT
BEGIN:VEVENT
DTSTART;VALUE=DATE:20250515
DTEND;VALUE=DATE:20250517
DTSTAMP:20260420T210242
CREATED:20240713T204247Z
LAST-MODIFIED:20240713T204247Z
UID:10001798-1747267200-1747439999@www.theepiphanyschool.org
SUMMARY:Art Show
DESCRIPTION:
URL:https://www.theepiphanyschool.org/event/art-show-12/
LOCATION:NY
CATEGORIES:The Epiphany School
END:VEVENT
BEGIN:VEVENT
DTSTART;VALUE=DATE:20250523
DTEND;VALUE=DATE:20250524
DTSTAMP:20260420T210242
CREATED:20240610T164235Z
LAST-MODIFIED:20250430T171445Z
UID:10001781-1747958400-1748044799@www.theepiphanyschool.org
SUMMARY:School Closed
DESCRIPTION:
URL:https://www.theepiphanyschool.org/event/school-closed-if-snow-days-are-not-used-2/
LOCATION:NY
CATEGORIES:The Epiphany School
END:VEVENT
BEGIN:VEVENT
DTSTART;VALUE=DATE:20250526
DTEND;VALUE=DATE:20250527
DTSTAMP:20260420T210242
CREATED:20240531T192721Z
LAST-MODIFIED:20240531T192721Z
UID:10001768-1748217600-1748303999@www.theepiphanyschool.org
SUMMARY:Memorial Day\, School Closed
DESCRIPTION:
URL:https://www.theepiphanyschool.org/event/memorial-day-school-closed-6/
LOCATION:NY
CATEGORIES:The Epiphany School
END:VEVENT
BEGIN:VEVENT
DTSTART;TZID=America/New_York:20250529T083000
DTEND;TZID=America/New_York:20250529T100000
DTSTAMP:20260420T210242
CREATED:20240713T204609Z
LAST-MODIFIED:20240908T013929Z
UID:10001800-1748507400-1748512800@www.theepiphanyschool.org
SUMMARY:Mass\, Ascension Thursday: students K - 8th; Upper School students meet in the Parish Hall at 8:30am
DESCRIPTION:
URL:https://www.theepiphanyschool.org/event/mass-ascension-thursday-students-1st-8th-upper-school-students-meet-in-the-parish-hall-at-830am/
LOCATION:The Epiphany Church\, 375 2nd Avenue\, New York\, NY\, 10010\, United States
CATEGORIES:The Epiphany School,The Epiphany Church
END:VEVENT
BEGIN:VEVENT
DTSTART;TZID=America/New_York:20250531T110000
DTEND;TZID=America/New_York:20250531T121500
DTSTAMP:20260420T210242
CREATED:20240531T150549Z
LAST-MODIFIED:20240612T154819Z
UID:10001747-1748689200-1748693700@www.theepiphanyschool.org
SUMMARY:First Holy Communion\, 11:00am
DESCRIPTION:
URL:https://www.theepiphanyschool.org/event/first-holy-communion-4/
LOCATION:NY
CATEGORIES:The Epiphany School,The Epiphany Church
END:VEVENT
END:VCALENDAR