BEGIN:VCALENDAR
VERSION:2.0
PRODID:-//Epiphany - ECPv6.15.18//NONSGML v1.0//EN
CALSCALE:GREGORIAN
METHOD:PUBLISH
X-ORIGINAL-URL:https://www.theepiphanyschool.org
X-WR-CALDESC:Events for Epiphany
REFRESH-INTERVAL;VALUE=DURATION:PT1H
X-Robots-Tag:noindex
X-PUBLISHED-TTL:PT1H
BEGIN:VTIMEZONE
TZID:America/New_York
BEGIN:DAYLIGHT
TZOFFSETFROM:-0500
TZOFFSETTO:-0400
TZNAME:EDT
DTSTART:20240310T070000
END:DAYLIGHT
BEGIN:STANDARD
TZOFFSETFROM:-0400
TZOFFSETTO:-0500
TZNAME:EST
DTSTART:20241103T060000
END:STANDARD
BEGIN:DAYLIGHT
TZOFFSETFROM:-0500
TZOFFSETTO:-0400
TZNAME:EDT
DTSTART:20250309T070000
END:DAYLIGHT
BEGIN:STANDARD
TZOFFSETFROM:-0400
TZOFFSETTO:-0500
TZNAME:EST
DTSTART:20251102T060000
END:STANDARD
BEGIN:DAYLIGHT
TZOFFSETFROM:-0500
TZOFFSETTO:-0400
TZNAME:EDT
DTSTART:20260308T070000
END:DAYLIGHT
BEGIN:STANDARD
TZOFFSETFROM:-0400
TZOFFSETTO:-0500
TZNAME:EST
DTSTART:20261101T060000
END:STANDARD
END:VTIMEZONE
BEGIN:VEVENT
DTSTART;VALUE=DATE:20250604
DTEND;VALUE=DATE:20250605
DTSTAMP:20260420T192335
CREATED:20240613T131357Z
LAST-MODIFIED:20240613T131357Z
UID:10001784-1748995200-1749081599@www.theepiphanyschool.org
SUMMARY:Field Day
DESCRIPTION:
URL:https://www.theepiphanyschool.org/event/field-day-4/
LOCATION:Dunwoodie Seminary\, 201 Seminary Avenue\, Yonkers\, NY\, 10704\, United States
CATEGORIES:The Epiphany School
END:VEVENT
BEGIN:VEVENT
DTSTART;VALUE=DATE:20250606
DTEND;VALUE=DATE:20250607
DTSTAMP:20260420T192335
CREATED:20240610T163423Z
LAST-MODIFIED:20240610T163423Z
UID:10001777-1749168000-1749254399@www.theepiphanyschool.org
SUMMARY:Half Day
DESCRIPTION:11:30am dismissal for all students.
URL:https://www.theepiphanyschool.org/event/half-day-44/
LOCATION:NY
CATEGORIES:The Epiphany School
END:VEVENT
BEGIN:VEVENT
DTSTART;VALUE=DATE:20250608
DTEND;VALUE=DATE:20250609
DTSTAMP:20260420T192335
CREATED:20240531T144406Z
LAST-MODIFIED:20240531T144406Z
UID:10001736-1749340800-1749427199@www.theepiphanyschool.org
SUMMARY:EFA Spring Carnival
DESCRIPTION:
URL:https://www.theepiphanyschool.org/event/efa-spring-carnival-4/
LOCATION:Lower School Yard\, 234 East 22nd Street\, New York\, NY\, 10010\, United States
CATEGORIES:The Epiphany School,Epiphany Family Association
END:VEVENT
BEGIN:VEVENT
DTSTART;TZID=America/New_York:20250613T173000
DTEND;TZID=America/New_York:20250613T190000
DTSTAMP:20260420T192335
CREATED:20240531T144828Z
LAST-MODIFIED:20240531T144828Z
UID:10001737-1749835800-1749841200@www.theepiphanyschool.org
SUMMARY:Class of 2025 Graduation\, 5:30pm
DESCRIPTION:Congratulations to our 8th Graders!
URL:https://www.theepiphanyschool.org/event/class-of-2025-graduation-530pm/
LOCATION:The Epiphany Church
CATEGORIES:The Epiphany School,The Epiphany Church
END:VEVENT
BEGIN:VEVENT
DTSTART;VALUE=DATE:20250615
DTEND;VALUE=DATE:20250616
DTSTAMP:20260420T192335
CREATED:20240531T145522Z
LAST-MODIFIED:20240531T145522Z
UID:10001741-1749945600-1750031999@www.theepiphanyschool.org
SUMMARY:Father's Day
DESCRIPTION:
URL:https://www.theepiphanyschool.org/event/fathers-day-8/
LOCATION:NY
CATEGORIES:The Epiphany School
END:VEVENT
BEGIN:VEVENT
DTSTART;TZID=America/New_York:20250618T090000
DTEND;TZID=America/New_York:20250618T101500
DTSTAMP:20260420T192335
CREATED:20240531T144953Z
LAST-MODIFIED:20250616T191504Z
UID:10001738-1750237200-1750241700@www.theepiphanyschool.org
SUMMARY:ECC Moving Up Ceremony\, 9:00am
DESCRIPTION:
URL:https://www.theepiphanyschool.org/event/ecc-moving-up-ceremony-900am/
LOCATION:Upper School Gym\, 141 East 28th Street\, New York\, NY\, 10016\, United States
CATEGORIES:The Epiphany School
END:VEVENT
BEGIN:VEVENT
DTSTART;TZID=America/New_York:20250618T104500
DTEND;TZID=America/New_York:20250618T120000
DTSTAMP:20260420T192335
CREATED:20240531T145058Z
LAST-MODIFIED:20240531T145058Z
UID:10001739-1750243500-1750248000@www.theepiphanyschool.org
SUMMARY:Kindergarten Moving Up Ceremony\, 10:45am
DESCRIPTION:
URL:https://www.theepiphanyschool.org/event/kindergarten-moving-up-ceremony-1045am/
LOCATION:Parish Hall\, 375 Second Avenue\, New York\, NY\, 10010\, United States
CATEGORIES:The Epiphany School
END:VEVENT
BEGIN:VEVENT
DTSTART;VALUE=DATE:20250619
DTEND;VALUE=DATE:20250620
DTSTAMP:20260420T192335
CREATED:20240531T192152Z
LAST-MODIFIED:20240531T192152Z
UID:10001767-1750291200-1750377599@www.theepiphanyschool.org
SUMMARY:Juneteenth\, School Closed
DESCRIPTION:
URL:https://www.theepiphanyschool.org/event/juneteenth-school-closed/
LOCATION:NY
CATEGORIES:The Epiphany School
END:VEVENT
BEGIN:VEVENT
DTSTART;VALUE=DATE:20250623
DTEND;VALUE=DATE:20250624
DTSTAMP:20260420T192335
CREATED:20240610T163459Z
LAST-MODIFIED:20240610T163459Z
UID:10001778-1750636800-1750723199@www.theepiphanyschool.org
SUMMARY:Half Day
DESCRIPTION:11:30am dismissal for all students.
URL:https://www.theepiphanyschool.org/event/half-day-45/
LOCATION:NY
CATEGORIES:The Epiphany School
END:VEVENT
BEGIN:VEVENT
DTSTART;VALUE=DATE:20250624
DTEND;VALUE=DATE:20250625
DTSTAMP:20260420T192335
CREATED:20240531T145725Z
LAST-MODIFIED:20240531T145725Z
UID:10001743-1750723200-1750809599@www.theepiphanyschool.org
SUMMARY:Last Day of School
DESCRIPTION:
URL:https://www.theepiphanyschool.org/event/last-day-of-school-3/
LOCATION:NY
CATEGORIES:The Epiphany School
END:VEVENT
BEGIN:VEVENT
DTSTART;VALUE=DATE:20250624
DTEND;VALUE=DATE:20250625
DTSTAMP:20260420T192335
CREATED:20240610T163556Z
LAST-MODIFIED:20240610T163556Z
UID:10001779-1750723200-1750809599@www.theepiphanyschool.org
SUMMARY:Half Day\, Last Day of School for 1st - 7th Grades
DESCRIPTION:11:30am dismissal for all students.
URL:https://www.theepiphanyschool.org/event/half-day-last-day-of-school-for-1st-7th-grades/
LOCATION:NY
CATEGORIES:The Epiphany School
END:VEVENT
BEGIN:VEVENT
DTSTART;TZID=America/New_York:20250624T103000
DTEND;TZID=America/New_York:20250624T113000
DTSTAMP:20260420T192335
CREATED:20250623T144712Z
LAST-MODIFIED:20250623T150834Z
UID:10001934-1750761000-1750764600@www.theepiphanyschool.org
SUMMARY:Last Day Honor's Ceremony\, 10:30am at the Epiphany Schurch
DESCRIPTION:All students will be dismissed from the Church and Lower School. Last Day for grades 1st-7th.
URL:https://www.theepiphanyschool.org/event/last-day-honors-ceremony-1030am-at-the-epiphany-schurch/
LOCATION:The Epiphany Church\, 375 2nd Avenue\, New York\, NY\, 10010\, United States
CATEGORIES:The Epiphany School,The Epiphany Church
END:VEVENT
END:VCALENDAR