BEGIN:VCALENDAR
VERSION:2.0
PRODID:-//Epiphany - ECPv6.15.18//NONSGML v1.0//EN
CALSCALE:GREGORIAN
METHOD:PUBLISH
X-ORIGINAL-URL:https://www.theepiphanyschool.org
X-WR-CALDESC:Events for Epiphany
REFRESH-INTERVAL;VALUE=DURATION:PT1H
X-Robots-Tag:noindex
X-PUBLISHED-TTL:PT1H
BEGIN:VTIMEZONE
TZID:America/New_York
BEGIN:DAYLIGHT
TZOFFSETFROM:-0500
TZOFFSETTO:-0400
TZNAME:EDT
DTSTART:20240310T070000
END:DAYLIGHT
BEGIN:STANDARD
TZOFFSETFROM:-0400
TZOFFSETTO:-0500
TZNAME:EST
DTSTART:20241103T060000
END:STANDARD
BEGIN:DAYLIGHT
TZOFFSETFROM:-0500
TZOFFSETTO:-0400
TZNAME:EDT
DTSTART:20250309T070000
END:DAYLIGHT
BEGIN:STANDARD
TZOFFSETFROM:-0400
TZOFFSETTO:-0500
TZNAME:EST
DTSTART:20251102T060000
END:STANDARD
BEGIN:DAYLIGHT
TZOFFSETFROM:-0500
TZOFFSETTO:-0400
TZNAME:EDT
DTSTART:20260308T070000
END:DAYLIGHT
BEGIN:STANDARD
TZOFFSETFROM:-0400
TZOFFSETTO:-0500
TZNAME:EST
DTSTART:20261101T060000
END:STANDARD
END:VTIMEZONE
BEGIN:VEVENT
DTSTART;VALUE=DATE:20250901
DTEND;VALUE=DATE:20250902
DTSTAMP:20260420T145854
CREATED:20250430T152954Z
LAST-MODIFIED:20250430T152954Z
UID:10001890-1756684800-1756771199@www.theepiphanyschool.org
SUMMARY:Labor Day
DESCRIPTION:
URL:https://www.theepiphanyschool.org/event/labor-day-9/
LOCATION:NY
CATEGORIES:The Epiphany School
END:VEVENT
BEGIN:VEVENT
DTSTART;VALUE=DATE:20250904
DTEND;VALUE=DATE:20250905
DTSTAMP:20260420T145854
CREATED:20250616T160943Z
LAST-MODIFIED:20250616T183135Z
UID:10001909-1756944000-1757030399@www.theepiphanyschool.org
SUMMARY:First Day of School\, Grades 1st-8th
DESCRIPTION:
URL:https://www.theepiphanyschool.org/event/first-day-of-school-grade-1st-8th/
LOCATION:NY
CATEGORIES:The Epiphany School
END:VEVENT
BEGIN:VEVENT
DTSTART;TZID=America/New_York:20250905T100000
DTEND;TZID=America/New_York:20250905T110000
DTSTAMP:20260420T145854
CREATED:20250815T231113Z
LAST-MODIFIED:20250815T231113Z
UID:10001976-1757066400-1757070000@www.theepiphanyschool.org
SUMMARY:Kindergarten Meet the Teacher\, 10:00am
DESCRIPTION:
URL:https://www.theepiphanyschool.org/event/kindergarten-meet-the-teacher-1000am-2/
LOCATION:Lower School\, 234 East 22nd Street\, New York\, NY\, 10010\, United States
CATEGORIES:The Epiphany School,Epiphany Family Association
END:VEVENT
BEGIN:VEVENT
DTSTART;TZID=America/New_York:20250905T100000
DTEND;TZID=America/New_York:20250905T120000
DTSTAMP:20260420T145854
CREATED:20250624T183750Z
LAST-MODIFIED:20250815T230954Z
UID:10001961-1757066400-1757073600@www.theepiphanyschool.org
SUMMARY:ECC  Welcome Meetings
DESCRIPTION:Meet the Teachers: We are excited to host a meet the teacher event at the early childhood center located at 152 E. 29th St. You are invited to bring your children to the school to meet their teacher and explore the classrooms. \nIn order to ensure that the classrooms aren’t too crowded\, we will have two different sessions.  \n·      Last Names A-M – 10:00-10:45 \n·      Last Names N-Z – 11:15-12:00
URL:https://www.theepiphanyschool.org/event/ecc-kindergarten-welcome-meetings/
LOCATION:Early Childhood Center\, 152 East 29th Street\, New York\, NY\, 10016\, United States
CATEGORIES:The Epiphany School,Epiphany Family Association
END:VEVENT
BEGIN:VEVENT
DTSTART;VALUE=DATE:20250908
DTEND;VALUE=DATE:20250909
DTSTAMP:20260420T145854
CREATED:20250616T183353Z
LAST-MODIFIED:20250616T183353Z
UID:10001916-1757289600-1757375999@www.theepiphanyschool.org
SUMMARY:First Day of School for Kindergarten & the Early Childhood Center
DESCRIPTION:
URL:https://www.theepiphanyschool.org/event/first-day-of-school-for-kindergarten-the-early-childhood-center/
LOCATION:NY
CATEGORIES:The Epiphany School
END:VEVENT
BEGIN:VEVENT
DTSTART;TZID=America/New_York:20250909T190000
DTEND;TZID=America/New_York:20250909T203000
DTSTAMP:20260420T145854
CREATED:20250616T183515Z
LAST-MODIFIED:20250616T183515Z
UID:10001917-1757444400-1757449800@www.theepiphanyschool.org
SUMMARY:Upper School Back to School Night\, 7:00pm
DESCRIPTION:
URL:https://www.theepiphanyschool.org/event/upper-school-back-to-school-night-700pm-2/
LOCATION:NY
CATEGORIES:The Epiphany School
END:VEVENT
BEGIN:VEVENT
DTSTART;TZID=America/New_York:20250910T190000
DTEND;TZID=America/New_York:20250910T203000
DTSTAMP:20260420T145854
CREATED:20250616T183650Z
LAST-MODIFIED:20250616T183650Z
UID:10001918-1757530800-1757536200@www.theepiphanyschool.org
SUMMARY:Lower School Back to School Night\, 7:00pm
DESCRIPTION:
URL:https://www.theepiphanyschool.org/event/lower-school-back-to-school-night-700pm/
LOCATION:NY
CATEGORIES:The Epiphany School
END:VEVENT
BEGIN:VEVENT
DTSTART;TZID=America/New_York:20250912T084500
DTEND;TZID=America/New_York:20250912T100000
DTSTAMP:20260420T145854
CREATED:20250624T184005Z
LAST-MODIFIED:20250624T184005Z
UID:10001962-1757666700-1757671200@www.theepiphanyschool.org
SUMMARY:Mass of the Holy Spirit: students 1st - 8th; Upper School students meet in the Parish Hall at 8:30am
DESCRIPTION:
URL:https://www.theepiphanyschool.org/event/mass-of-the-holy-spirit-students-1st-8th-upper-school-students-meet-in-the-parish-hall-at-830am-3/
LOCATION:NY
CATEGORIES:The Epiphany School,The Epiphany Church
END:VEVENT
BEGIN:VEVENT
DTSTART;TZID=America/New_York:20250912T144500
DTEND;TZID=America/New_York:20250912T160000
DTSTAMP:20260420T145854
CREATED:20250625T145608Z
LAST-MODIFIED:20250815T231240Z
UID:10001973-1757688300-1757692800@www.theepiphanyschool.org
SUMMARY:Welcome New Families\, SnowCone Party\, 2:45pm
DESCRIPTION:All new families are invited to a welcome “SonwCone Party” where you can meet other new families as well as current parents and school faculty and staff.
URL:https://www.theepiphanyschool.org/event/welcome-new-families-popsicle-party-245pm/
LOCATION:Lower School Yard\, 234 East 22nd Street\, New York\, NY\, 10010\, United States
CATEGORIES:The Epiphany School,Epiphany Family Association
END:VEVENT
BEGIN:VEVENT
DTSTART;VALUE=DATE:20250923
DTEND;VALUE=DATE:20250924
DTSTAMP:20260420T145854
CREATED:20250623T155838Z
LAST-MODIFIED:20250623T160405Z
UID:10001953-1758585600-1758671999@www.theepiphanyschool.org
SUMMARY:Rosh Hashana
DESCRIPTION:
URL:https://www.theepiphanyschool.org/event/rosh-hashana/
LOCATION:NY
CATEGORIES:The Epiphany School
END:VEVENT
BEGIN:VEVENT
DTSTART;TZID=America/New_York:20250925T183000
DTEND;TZID=America/New_York:20250925T200000
DTSTAMP:20260420T145854
CREATED:20250815T231635Z
LAST-MODIFIED:20250815T231809Z
UID:10001977-1758825000-1758830400@www.theepiphanyschool.org
SUMMARY:ESF President's Club Reception
DESCRIPTION:
URL:https://www.theepiphanyschool.org/event/esf-presidents-club-reception-2/
LOCATION:Samuel J. Tilden House\, 15 Gramercy Park South\, New York\, NY\, 10003\, United States
CATEGORIES:The Epiphany Foundation
END:VEVENT
END:VCALENDAR