BEGIN:VCALENDAR
VERSION:2.0
PRODID:-//Epiphany - ECPv6.15.18//NONSGML v1.0//EN
CALSCALE:GREGORIAN
METHOD:PUBLISH
X-ORIGINAL-URL:https://www.theepiphanyschool.org
X-WR-CALDESC:Events for Epiphany
REFRESH-INTERVAL;VALUE=DURATION:PT1H
X-Robots-Tag:noindex
X-PUBLISHED-TTL:PT1H
BEGIN:VTIMEZONE
TZID:America/New_York
BEGIN:DAYLIGHT
TZOFFSETFROM:-0500
TZOFFSETTO:-0400
TZNAME:EDT
DTSTART:20240310T070000
END:DAYLIGHT
BEGIN:STANDARD
TZOFFSETFROM:-0400
TZOFFSETTO:-0500
TZNAME:EST
DTSTART:20241103T060000
END:STANDARD
BEGIN:DAYLIGHT
TZOFFSETFROM:-0500
TZOFFSETTO:-0400
TZNAME:EDT
DTSTART:20250309T070000
END:DAYLIGHT
BEGIN:STANDARD
TZOFFSETFROM:-0400
TZOFFSETTO:-0500
TZNAME:EST
DTSTART:20251102T060000
END:STANDARD
BEGIN:DAYLIGHT
TZOFFSETFROM:-0500
TZOFFSETTO:-0400
TZNAME:EDT
DTSTART:20260308T070000
END:DAYLIGHT
BEGIN:STANDARD
TZOFFSETFROM:-0400
TZOFFSETTO:-0500
TZNAME:EST
DTSTART:20261101T060000
END:STANDARD
END:VTIMEZONE
BEGIN:VEVENT
DTSTART;VALUE=DATE:20251002
DTEND;VALUE=DATE:20251003
DTSTAMP:20260420T131604
CREATED:20250623T155803Z
LAST-MODIFIED:20250623T155803Z
UID:10001952-1759363200-1759449599@www.theepiphanyschool.org
SUMMARY:Yom Kippur
DESCRIPTION:
URL:https://www.theepiphanyschool.org/event/yom-kippur-2/
LOCATION:NY
CATEGORIES:The Epiphany School
END:VEVENT
BEGIN:VEVENT
DTSTART;TZID=America/New_York:20251004T120000
DTEND;TZID=America/New_York:20251004T130000
DTSTAMP:20260420T131604
CREATED:20250815T232349Z
LAST-MODIFIED:20250815T232349Z
UID:10001978-1759579200-1759582800@www.theepiphanyschool.org
SUMMARY:The Blessing of the Animals\, 12:00 Noon
DESCRIPTION:Please join us on the Epiphany Church Plaza at noon for the Blessing of the Animals\, bring your pets!
URL:https://www.theepiphanyschool.org/event/the-blessing-of-the-animals-1200-noon-2/
LOCATION:NY
CATEGORIES:The Epiphany School,The Epiphany Church
END:VEVENT
BEGIN:VEVENT
DTSTART;TZID=America/New_York:20251005T110000
DTEND;TZID=America/New_York:20251005T120000
DTSTAMP:20260420T131604
CREATED:20250625T144525Z
LAST-MODIFIED:20250625T144525Z
UID:10001966-1759662000-1759665600@www.theepiphanyschool.org
SUMMARY:Class Mass\, 2nd & 7th Grades\, 11:00am
DESCRIPTION:
URL:https://www.theepiphanyschool.org/event/class-mass-2nd-7th-grades-1100am-3/
LOCATION:The Epiphany Church\, 375 2nd Avenue\, New York\, NY\, 10010\, United States
CATEGORIES:The Epiphany School,The Epiphany Church
END:VEVENT
BEGIN:VEVENT
DTSTART;TZID=America/New_York:20251005T130000
DTEND;TZID=America/New_York:20251005T160000
DTSTAMP:20260420T131604
CREATED:20250616T183930Z
LAST-MODIFIED:20250616T183930Z
UID:10001920-1759669200-1759680000@www.theepiphanyschool.org
SUMMARY:Epiphany School Foundation Annual Walk
DESCRIPTION:
URL:https://www.theepiphanyschool.org/event/epiphany-school-foundation-annual-walk/
LOCATION:NY
CATEGORIES:The Epiphany School,The Epiphany Foundation
END:VEVENT
BEGIN:VEVENT
DTSTART;TZID=America/New_York:20251009T163000
DTEND;TZID=America/New_York:20251009T173000
DTSTAMP:20260420T131604
CREATED:20250815T232556Z
LAST-MODIFIED:20250829T211404Z
UID:10001979-1760027400-1760031000@www.theepiphanyschool.org
SUMMARY:Uniform Exchange\, 4:30pm
DESCRIPTION:Let’s reuse and recycle!
URL:https://www.theepiphanyschool.org/event/uniform-exchange-430pm/
LOCATION:Upper School Gym\, 141 East 28th Street\, New York\, NY\, 10016\, United States
CATEGORIES:The Epiphany School,Epiphany Family Association
END:VEVENT
BEGIN:VEVENT
DTSTART;TZID=America/New_York:20251009T173000
DTEND;TZID=America/New_York:20251009T183000
DTSTAMP:20260420T131604
CREATED:20250815T232717Z
LAST-MODIFIED:20250829T211318Z
UID:10001980-1760031000-1760034600@www.theepiphanyschool.org
SUMMARY:Town Hall Meeting
DESCRIPTION:Join school leadership and your fellow parents for a Town Hall style meeting.
URL:https://www.theepiphanyschool.org/event/town-hall-meeting/
LOCATION:Upper School Gym\, 141 East 28th Street\, New York\, NY\, 10016\, United States
CATEGORIES:The Epiphany School
END:VEVENT
BEGIN:VEVENT
DTSTART;VALUE=DATE:20251010
DTEND;VALUE=DATE:20251011
DTSTAMP:20260420T131604
CREATED:20250616T184030Z
LAST-MODIFIED:20250616T184030Z
UID:10001921-1760054400-1760140799@www.theepiphanyschool.org
SUMMARY:Half Day\, All Students are Dismissed at 11:30
DESCRIPTION:
URL:https://www.theepiphanyschool.org/event/half-day-all-students-are-dismissed-at-1130/
LOCATION:NY
CATEGORIES:The Epiphany School
END:VEVENT
BEGIN:VEVENT
DTSTART;VALUE=DATE:20251013
DTEND;VALUE=DATE:20251014
DTSTAMP:20260420T131604
CREATED:20250522T151345Z
LAST-MODIFIED:20250623T161544Z
UID:10001892-1760313600-1760399999@www.theepiphanyschool.org
SUMMARY:School Closed\, Indigenous Peoples' Day/ Columbus Day
DESCRIPTION:
URL:https://www.theepiphanyschool.org/event/indigenous-peoples-day-columbus-day-school-closed/
LOCATION:NY
CATEGORIES:The Epiphany School
END:VEVENT
BEGIN:VEVENT
DTSTART;VALUE=DATE:20251014
DTEND;VALUE=DATE:20251015
DTSTAMP:20260420T131604
CREATED:20250616T183808Z
LAST-MODIFIED:20250616T183808Z
UID:10001919-1760400000-1760486399@www.theepiphanyschool.org
SUMMARY:Winter Uniforms Begin
DESCRIPTION:
URL:https://www.theepiphanyschool.org/event/winter-uniforms-begin-10/
LOCATION:NY
CATEGORIES:The Epiphany School
END:VEVENT
BEGIN:VEVENT
DTSTART;VALUE=DATE:20251020
DTEND;VALUE=DATE:20251021
DTSTAMP:20260420T131604
CREATED:20250623T155731Z
LAST-MODIFIED:20250623T155731Z
UID:10001951-1760918400-1761004799@www.theepiphanyschool.org
SUMMARY:Diwali
DESCRIPTION:
URL:https://www.theepiphanyschool.org/event/diwali-2/
LOCATION:NY
CATEGORIES:The Epiphany School
END:VEVENT
BEGIN:VEVENT
DTSTART;VALUE=DATE:20251024
DTEND;VALUE=DATE:20251025
DTSTAMP:20260420T131604
CREATED:20251014T160228Z
LAST-MODIFIED:20251014T160439Z
UID:10002033-1761264000-1761350399@www.theepiphanyschool.org
SUMMARY:CYO Basketball\, 5th - 8th grades\, registration due.
DESCRIPTION:
URL:https://www.theepiphanyschool.org/event/cyo-basketball-registration-due/
LOCATION:NY
CATEGORIES:The Epiphany School,Epiphany Sports
END:VEVENT
BEGIN:VEVENT
DTSTART;TZID=America/New_York:20251024T180000
DTEND;TZID=America/New_York:20251024T210000
DTSTAMP:20260420T131604
CREATED:20250815T232810Z
LAST-MODIFIED:20250930T155445Z
UID:10001981-1761328800-1761339600@www.theepiphanyschool.org
SUMMARY:EFA Family Halloween Party\, 6:00pm
DESCRIPTION:
URL:https://www.theepiphanyschool.org/event/efa-family-halloween-party-600pm-3/
LOCATION:Parish Hall\, 375 Second Avenue\, New York\, NY\, 10010\, United States
CATEGORIES:The Epiphany School,Epiphany Family Association
END:VEVENT
BEGIN:VEVENT
DTSTART;VALUE=DATE:20251025
DTEND;VALUE=DATE:20251026
DTSTAMP:20260420T131604
CREATED:20250930T185156Z
LAST-MODIFIED:20251001T190437Z
UID:10002031-1761350400-1761436799@www.theepiphanyschool.org
SUMMARY:Open House for Prospective Families\, 11:00am - 2:00pm
DESCRIPTION:Join us from 11:00am at the Lower School to meet our current faculty\, parents\, and students. Tour our school and learn more about The Epiphany School Experience\, from the Lower School we will proceed to the Upper School and the ECC.
URL:https://www.theepiphanyschool.org/event/open-house-for-prospective-families-1100am-200pm/
LOCATION:NY
CATEGORIES:The Epiphany School
END:VEVENT
BEGIN:VEVENT
DTSTART;TZID=America/New_York:20251031T090000
DTEND;TZID=America/New_York:20251031T100000
DTSTAMP:20260420T131604
CREATED:20250815T232916Z
LAST-MODIFIED:20250815T232916Z
UID:10001982-1761901200-1761904800@www.theepiphanyschool.org
SUMMARY:Annual Halloween Costume Parade
DESCRIPTION:
URL:https://www.theepiphanyschool.org/event/annual-halloween-costume-parade/
LOCATION:Lower School Yard\, 234 East 22nd Street\, New York\, NY\, 10010\, United States
CATEGORIES:The Epiphany School,Epiphany Family Association
END:VEVENT
BEGIN:VEVENT
DTSTART;TZID=America/New_York:20251031T183000
DTEND;TZID=America/New_York:20251031T193000
DTSTAMP:20260420T131604
CREATED:20250815T233133Z
LAST-MODIFIED:20250815T233133Z
UID:10001983-1761935400-1761939000@www.theepiphanyschool.org
SUMMARY:"Halloweenie" on the Church Plaza\, 6:30-7:30pm
DESCRIPTION:
URL:https://www.theepiphanyschool.org/event/halloweenie-on-the-church-plaza-630-730pm/
LOCATION:The Epiphany Church\, 375 2nd Avenue\, New York\, NY\, 10010\, United States
CATEGORIES:The Epiphany School,The Epiphany Church
END:VEVENT
END:VCALENDAR