BEGIN:VCALENDAR
VERSION:2.0
PRODID:-//Epiphany - ECPv6.15.18//NONSGML v1.0//EN
CALSCALE:GREGORIAN
METHOD:PUBLISH
X-WR-CALNAME:Epiphany
X-ORIGINAL-URL:https://www.theepiphanyschool.org
X-WR-CALDESC:Events for Epiphany
REFRESH-INTERVAL;VALUE=DURATION:PT1H
X-Robots-Tag:noindex
X-PUBLISHED-TTL:PT1H
BEGIN:VTIMEZONE
TZID:America/New_York
BEGIN:DAYLIGHT
TZOFFSETFROM:-0500
TZOFFSETTO:-0400
TZNAME:EDT
DTSTART:20240310T070000
END:DAYLIGHT
BEGIN:STANDARD
TZOFFSETFROM:-0400
TZOFFSETTO:-0500
TZNAME:EST
DTSTART:20241103T060000
END:STANDARD
BEGIN:DAYLIGHT
TZOFFSETFROM:-0500
TZOFFSETTO:-0400
TZNAME:EDT
DTSTART:20250309T070000
END:DAYLIGHT
BEGIN:STANDARD
TZOFFSETFROM:-0400
TZOFFSETTO:-0500
TZNAME:EST
DTSTART:20251102T060000
END:STANDARD
BEGIN:DAYLIGHT
TZOFFSETFROM:-0500
TZOFFSETTO:-0400
TZNAME:EDT
DTSTART:20260308T070000
END:DAYLIGHT
BEGIN:STANDARD
TZOFFSETFROM:-0400
TZOFFSETTO:-0500
TZNAME:EST
DTSTART:20261101T060000
END:STANDARD
END:VTIMEZONE
BEGIN:VEVENT
DTSTART;VALUE=DATE:20251101
DTEND;VALUE=DATE:20251102
DTSTAMP:20260420T114450
CREATED:20250522T151507Z
LAST-MODIFIED:20250522T151507Z
UID:10001893-1761955200-1762041599@www.theepiphanyschool.org
SUMMARY:All Saints' Day
DESCRIPTION:
URL:https://www.theepiphanyschool.org/event/all-saints-day-10/
LOCATION:NY
CATEGORIES:The Epiphany School,The Epiphany Church
END:VEVENT
BEGIN:VEVENT
DTSTART;VALUE=DATE:20251102
DTEND;VALUE=DATE:20251103
DTSTAMP:20260420T114450
CREATED:20250623T155537Z
LAST-MODIFIED:20250623T160122Z
UID:10001948-1762041600-1762127999@www.theepiphanyschool.org
SUMMARY:Daylight Saving Time Ends
DESCRIPTION:Sunday\, November 2\, 2025\, 2:00:00 am clocks are turned backward 1 hour to\nSunday\, November 2\, 2025\, 1:00:00 am local standard time instead.
URL:https://www.theepiphanyschool.org/event/daylight-saving-time-ends-7/
LOCATION:NY
CATEGORIES:The Epiphany School
END:VEVENT
BEGIN:VEVENT
DTSTART;TZID=America/New_York:20251102T110000
DTEND;TZID=America/New_York:20251102T120000
DTSTAMP:20260420T114450
CREATED:20250625T144626Z
LAST-MODIFIED:20250625T144626Z
UID:10001967-1762081200-1762084800@www.theepiphanyschool.org
SUMMARY:Class Mass\, Nursery & 6th Grade\, 11:00am
DESCRIPTION:
URL:https://www.theepiphanyschool.org/event/class-mass-nursery-6th-grade-1100am/
LOCATION:The Epiphany Church\, 375 2nd Avenue\, New York\, NY\, 10010\, United States
CATEGORIES:The Epiphany School,The Epiphany Church
END:VEVENT
BEGIN:VEVENT
DTSTART;VALUE=DATE:20251103
DTEND;VALUE=DATE:20251104
DTSTAMP:20260420T114450
CREATED:20251014T160405Z
LAST-MODIFIED:20251103T160548Z
UID:10002034-1762128000-1762214399@www.theepiphanyschool.org
SUMMARY:Intramural Basketball\, 3rd & 4th graders\, registration due.
DESCRIPTION:
URL:https://www.theepiphanyschool.org/event/intramural-basketball-3rd-4th-grades-registration-due/
LOCATION:NY
CATEGORIES:The Epiphany School,Epiphany Sports
END:VEVENT
BEGIN:VEVENT
DTSTART;TZID=America/New_York:20251103T083000
DTEND;TZID=America/New_York:20251103T100000
DTSTAMP:20260420T114450
CREATED:20250815T234602Z
LAST-MODIFIED:20250815T234602Z
UID:10001984-1762158600-1762164000@www.theepiphanyschool.org
SUMMARY:Mass\, All Saints Day: students K - 8th; Upper School students meet in the Parish Hall at 8:30am
DESCRIPTION:
URL:https://www.theepiphanyschool.org/event/mass-all-saints-day-students-k-8th-upper-school-students-meet-in-the-parish-hall-at-830am/
LOCATION:The Epiphany Church\, 375 2nd Avenue\, New York\, NY\, 10010\, United States
CATEGORIES:The Epiphany School,The Epiphany Church
END:VEVENT
BEGIN:VEVENT
DTSTART;VALUE=DATE:20251104
DTEND;VALUE=DATE:20251105
DTSTAMP:20260420T114450
CREATED:20250815T234710Z
LAST-MODIFIED:20250815T234710Z
UID:10001985-1762214400-1762300799@www.theepiphanyschool.org
SUMMARY:Election Day
DESCRIPTION:Student Council elections will be held today.
URL:https://www.theepiphanyschool.org/event/election-day-5/
LOCATION:NY
CATEGORIES:The Epiphany School
END:VEVENT
BEGIN:VEVENT
DTSTART;VALUE=DATE:20251107
DTEND;VALUE=DATE:20251108
DTSTAMP:20260420T114450
CREATED:20250625T151929Z
LAST-MODIFIED:20251103T160432Z
UID:10001975-1762473600-1762559999@www.theepiphanyschool.org
SUMMARY:TACHS Test Administration for ADNY\, 8th Graders
DESCRIPTION:The test for admission to Catholic High Schools in the Archdiocese of New York is taken by 8th graders today.
URL:https://www.theepiphanyschool.org/event/tachs-administration-for-adny-8th-graders/
LOCATION:NY
CATEGORIES:The Epiphany School
END:VEVENT
BEGIN:VEVENT
DTSTART;VALUE=DATE:20251110
DTEND;VALUE=DATE:20251111
DTSTAMP:20260420T114450
CREATED:20250616T164507Z
LAST-MODIFIED:20250616T164507Z
UID:10001910-1762732800-1762819199@www.theepiphanyschool.org
SUMMARY:School Closed\, Teacher Conference
DESCRIPTION:
URL:https://www.theepiphanyschool.org/event/school-closed-teacher-conference-6/
LOCATION:NY
CATEGORIES:The Epiphany School
END:VEVENT
BEGIN:VEVENT
DTSTART;VALUE=DATE:20251111
DTEND;VALUE=DATE:20251112
DTSTAMP:20260420T114450
CREATED:20250616T164613Z
LAST-MODIFIED:20250616T164613Z
UID:10001911-1762819200-1762905599@www.theepiphanyschool.org
SUMMARY:School Closed\, Veterans' Day
DESCRIPTION:
URL:https://www.theepiphanyschool.org/event/school-closed-veterans-day/
LOCATION:NY
CATEGORIES:The Epiphany School
END:VEVENT
BEGIN:VEVENT
DTSTART;VALUE=DATE:20251115
DTEND;VALUE=DATE:20251116
DTSTAMP:20260420T114450
CREATED:20250929T141129Z
LAST-MODIFIED:20250929T141129Z
UID:10002029-1763164800-1763251199@www.theepiphanyschool.org
SUMMARY:NYC Specialized High School Testing
DESCRIPTION:
URL:https://www.theepiphanyschool.org/event/nyc-specialized-high-school-testing/
LOCATION:NY
CATEGORIES:The Epiphany School
END:VEVENT
BEGIN:VEVENT
DTSTART;TZID=America/New_York:20251119T183000
DTEND;TZID=America/New_York:20251119T210000
DTSTAMP:20260420T114450
CREATED:20250616T164938Z
LAST-MODIFIED:20250616T164938Z
UID:10001913-1763577000-1763586000@www.theepiphanyschool.org
SUMMARY:Epiphany School Foundation Hall of Fame Inductee Reception
DESCRIPTION:
URL:https://www.theepiphanyschool.org/event/epiphany-school-foundation-hall-of-fame-inductee-reception/
LOCATION:NY
CATEGORIES:The Epiphany School,The Epiphany Foundation
END:VEVENT
BEGIN:VEVENT
DTSTART;VALUE=DATE:20251120
DTEND;VALUE=DATE:20251121
DTSTAMP:20260420T114450
CREATED:20250815T234832Z
LAST-MODIFIED:20251119T163307Z
UID:10001986-1763596800-1763683199@www.theepiphanyschool.org
SUMMARY:School Photo Day\, K-8th Wear Winter Uniforms
DESCRIPTION:All students will be photographed today.
URL:https://www.theepiphanyschool.org/event/school-photo-day-2/
LOCATION:NY
CATEGORIES:The Epiphany School
END:VEVENT
BEGIN:VEVENT
DTSTART;VALUE=DATE:20251121
DTEND;VALUE=DATE:20251122
DTSTAMP:20260420T114450
CREATED:20250616T190036Z
LAST-MODIFIED:20250616T190036Z
UID:10001924-1763683200-1763769599@www.theepiphanyschool.org
SUMMARY:Half Day\, All Students are Dismissed at 11:30\, Report Card Conferences
DESCRIPTION:
URL:https://www.theepiphanyschool.org/event/half-day-all-students-are-dismissed-at-1130-report-card-conferences/
LOCATION:NY
CATEGORIES:The Epiphany School
END:VEVENT
BEGIN:VEVENT
DTSTART;VALUE=DATE:20251126
DTEND;VALUE=DATE:20251127
DTSTAMP:20260420T114450
CREATED:20250616T185806Z
LAST-MODIFIED:20250616T185806Z
UID:10001922-1764115200-1764201599@www.theepiphanyschool.org
SUMMARY:Half Day\, All Students are Dismissed at 11:30
DESCRIPTION:
URL:https://www.theepiphanyschool.org/event/half-day-all-students-are-dismissed-at-1130-2/
LOCATION:NY
CATEGORIES:The Epiphany School
END:VEVENT
BEGIN:VEVENT
DTSTART;TZID=America/New_York:20251126T083000
DTEND;TZID=America/New_York:20251126T100000
DTSTAMP:20260420T114450
CREATED:20250624T184145Z
LAST-MODIFIED:20250624T184203Z
UID:10001963-1764145800-1764151200@www.theepiphanyschool.org
SUMMARY:Thanksgiving Mass: students K - 8th; Upper School students meet in the Parish Hall at 8:30am
DESCRIPTION:
URL:https://www.theepiphanyschool.org/event/thanksgiving-mass-students-k-8th-upper-school-students-meet-in-the-parish-hall-at-830am/
LOCATION:NY
CATEGORIES:The Epiphany School,The Epiphany Church
END:VEVENT
BEGIN:VEVENT
DTSTART;VALUE=DATE:20251127
DTEND;VALUE=DATE:20251128
DTSTAMP:20260420T114450
CREATED:20250522T151227Z
LAST-MODIFIED:20250522T151228Z
UID:10001891-1764201600-1764287999@www.theepiphanyschool.org
SUMMARY:Thanksgiving Day
DESCRIPTION:
URL:https://www.theepiphanyschool.org/event/thanksgiving-day-8/
LOCATION:NY
CATEGORIES:The Epiphany School
END:VEVENT
BEGIN:VEVENT
DTSTART;VALUE=DATE:20251128
DTEND;VALUE=DATE:20251129
DTSTAMP:20260420T114450
CREATED:20250528T175440Z
LAST-MODIFIED:20250528T175440Z
UID:10001899-1764288000-1764374399@www.theepiphanyschool.org
SUMMARY:School Closed
DESCRIPTION:
URL:https://www.theepiphanyschool.org/event/school-closed-56/
LOCATION:NY
CATEGORIES:The Epiphany School
END:VEVENT
BEGIN:VEVENT
DTSTART;VALUE=DATE:20251130
DTEND;VALUE=DATE:20251201
DTSTAMP:20260420T114450
CREATED:20250528T173606Z
LAST-MODIFIED:20250528T173606Z
UID:10001895-1764460800-1764547199@www.theepiphanyschool.org
SUMMARY:Advent Begins
DESCRIPTION:
URL:https://www.theepiphanyschool.org/event/advent-begins-6/
LOCATION:NY
CATEGORIES:The Epiphany School,The Epiphany Church
END:VEVENT
END:VCALENDAR