BEGIN:VCALENDAR
VERSION:2.0
PRODID:-//Epiphany - ECPv6.15.18//NONSGML v1.0//EN
CALSCALE:GREGORIAN
METHOD:PUBLISH
X-ORIGINAL-URL:https://www.theepiphanyschool.org
X-WR-CALDESC:Events for Epiphany
REFRESH-INTERVAL;VALUE=DURATION:PT1H
X-Robots-Tag:noindex
X-PUBLISHED-TTL:PT1H
BEGIN:VTIMEZONE
TZID:America/New_York
BEGIN:DAYLIGHT
TZOFFSETFROM:-0500
TZOFFSETTO:-0400
TZNAME:EDT
DTSTART:20240310T070000
END:DAYLIGHT
BEGIN:STANDARD
TZOFFSETFROM:-0400
TZOFFSETTO:-0500
TZNAME:EST
DTSTART:20241103T060000
END:STANDARD
BEGIN:DAYLIGHT
TZOFFSETFROM:-0500
TZOFFSETTO:-0400
TZNAME:EDT
DTSTART:20250309T070000
END:DAYLIGHT
BEGIN:STANDARD
TZOFFSETFROM:-0400
TZOFFSETTO:-0500
TZNAME:EST
DTSTART:20251102T060000
END:STANDARD
BEGIN:DAYLIGHT
TZOFFSETFROM:-0500
TZOFFSETTO:-0400
TZNAME:EDT
DTSTART:20260308T070000
END:DAYLIGHT
BEGIN:STANDARD
TZOFFSETFROM:-0400
TZOFFSETTO:-0500
TZNAME:EST
DTSTART:20261101T060000
END:STANDARD
BEGIN:DAYLIGHT
TZOFFSETFROM:-0500
TZOFFSETTO:-0400
TZNAME:EDT
DTSTART:20270314T070000
END:DAYLIGHT
BEGIN:STANDARD
TZOFFSETFROM:-0400
TZOFFSETTO:-0500
TZNAME:EST
DTSTART:20271107T060000
END:STANDARD
END:VTIMEZONE
BEGIN:VEVENT
DTSTART;VALUE=DATE:20251202
DTEND;VALUE=DATE:20251203
DTSTAMP:20260420T101511
CREATED:20250528T185132Z
LAST-MODIFIED:20250528T185132Z
UID:10001908-1764633600-1764719999@www.theepiphanyschool.org
SUMMARY:Giving Tuesday
DESCRIPTION:
URL:https://www.theepiphanyschool.org/event/giving-tuesday-5/
LOCATION:NY
CATEGORIES:The Epiphany School,The Epiphany Foundation
END:VEVENT
BEGIN:VEVENT
DTSTART;VALUE=DATE:20251205
DTEND;VALUE=DATE:20251206
DTSTAMP:20260420T101511
CREATED:20250616T185925Z
LAST-MODIFIED:20251204T211126Z
UID:10001923-1764892800-1764979199@www.theepiphanyschool.org
SUMMARY:Half Day\, All Students dismissed at 11:30; Upper School students will be dismissed from the Lower School Yard.
DESCRIPTION:
URL:https://www.theepiphanyschool.org/event/half-day-all-students-are-dismissed-at-1130-3/
LOCATION:NY
CATEGORIES:The Epiphany School
END:VEVENT
BEGIN:VEVENT
DTSTART;VALUE=DATE:20251207
DTEND;VALUE=DATE:20251208
DTSTAMP:20260420T101511
CREATED:20250528T173831Z
LAST-MODIFIED:20250528T173831Z
UID:10001898-1765065600-1765151999@www.theepiphanyschool.org
SUMMARY:2nd Sunday of Advent
DESCRIPTION:
URL:https://www.theepiphanyschool.org/event/2nd-sunday-of-advent-2/
LOCATION:NY
CATEGORIES:The Epiphany School,The Epiphany Church
END:VEVENT
BEGIN:VEVENT
DTSTART;TZID=America/New_York:20251207T110000
DTEND;TZID=America/New_York:20251207T120000
DTSTAMP:20260420T101511
CREATED:20250625T144724Z
LAST-MODIFIED:20250625T144724Z
UID:10001968-1765105200-1765108800@www.theepiphanyschool.org
SUMMARY:Class Mass\, Pre-K & 5th Grade\, 11:00am
DESCRIPTION:
URL:https://www.theepiphanyschool.org/event/class-mass-pre-k-5th-grade-1100am/
LOCATION:The Epiphany Church\, 375 2nd Avenue\, New York\, NY\, 10010\, United States
CATEGORIES:The Epiphany School,The Epiphany Church
END:VEVENT
BEGIN:VEVENT
DTSTART;TZID=America/New_York:20251208T083000
DTEND;TZID=America/New_York:20251208T100000
DTSTAMP:20260420T101511
CREATED:20250624T184306Z
LAST-MODIFIED:20250624T184306Z
UID:10001964-1765182600-1765188000@www.theepiphanyschool.org
SUMMARY:Mass\, Feast of the Immaculate Conception: students K - 8th; Upper School students meet in the Parish Hall at 8:30am
DESCRIPTION:
URL:https://www.theepiphanyschool.org/event/mass-feast-of-the-immaculate-conception-students-k-8th-upper-school-students-meet-in-the-parish-hall-at-830am/
LOCATION:The Epiphany Church
CATEGORIES:The Epiphany School,The Epiphany Church
END:VEVENT
BEGIN:VEVENT
DTSTART;VALUE=DATE:20251212
DTEND;VALUE=DATE:20251213
DTSTAMP:20260420T101511
CREATED:20251208T175254Z
LAST-MODIFIED:20251208T175254Z
UID:10002040-1765497600-1765583999@www.theepiphanyschool.org
SUMMARY:Upper School Students will be dismissed on the Epiphany Church Plaza today.
DESCRIPTION:Students in 4th-8th Grades who attend after school programs will walk to the Upper School with faculty members following rehearsal. Dismissal from after school programs is unchanged.
URL:https://www.theepiphanyschool.org/event/upper-school-students-will-be-dismissed-on-the-epiphany-church-plaza-today/
LOCATION:NY
CATEGORIES:The Epiphany School,The Epiphany Church
END:VEVENT
BEGIN:VEVENT
DTSTART;TZID=America/New_York:20251212T190000
DTEND;TZID=America/New_York:20251212T203000
DTSTAMP:20260420T101511
CREATED:20250624T180004Z
LAST-MODIFIED:20250624T181245Z
UID:10001960-1765566000-1765571400@www.theepiphanyschool.org
SUMMARY:Upper School Christmas Concert\, 7:00pm
DESCRIPTION:
URL:https://www.theepiphanyschool.org/event/upper-school-christmas-concert-700pm-5/
LOCATION:The Epiphany Church\, 375 2nd Avenue\, New York\, NY\, 10010\, United States
CATEGORIES:The Epiphany School,The Epiphany Church
END:VEVENT
BEGIN:VEVENT
DTSTART;TZID=America/New_York:20251213T180000
DTEND;TZID=America/New_York:20251213T190000
DTSTAMP:20260420T101511
CREATED:20250815T235753Z
LAST-MODIFIED:20250815T235753Z
UID:10001988-1765648800-1765652400@www.theepiphanyschool.org
SUMMARY:Christmas Tree Lighting on the Church Plaza\, 6:00pm
DESCRIPTION:
URL:https://www.theepiphanyschool.org/event/christmas-tree-lighting-on-the-church-plaza-600pm/
LOCATION:The Epiphany Church
CATEGORIES:The Epiphany School,The Epiphany Church
END:VEVENT
BEGIN:VEVENT
DTSTART;VALUE=DATE:20251214
DTEND;VALUE=DATE:20251215
DTSTAMP:20260420T101511
CREATED:20250528T173755Z
LAST-MODIFIED:20250528T173755Z
UID:10001897-1765670400-1765756799@www.theepiphanyschool.org
SUMMARY:3rd Sunday of Advent
DESCRIPTION:
URL:https://www.theepiphanyschool.org/event/3rd-sunday-of-advent-2/
LOCATION:NY
CATEGORIES:The Epiphany School,The Epiphany Church
END:VEVENT
BEGIN:VEVENT
DTSTART;TZID=America/New_York:20251219T090000
DTEND;TZID=America/New_York:20251219T101500
DTSTAMP:20260420T101511
CREATED:20250816T000112Z
LAST-MODIFIED:20250816T000112Z
UID:10001989-1766134800-1766139300@www.theepiphanyschool.org
SUMMARY:ECC Christmas Show\, 9:00am
DESCRIPTION:
URL:https://www.theepiphanyschool.org/event/ecc-christmas-show-900am-4/
LOCATION:Upper School Gym\, 141 East 28th Street\, New York\, NY\, 10016\, United States
CATEGORIES:The Epiphany School
END:VEVENT
BEGIN:VEVENT
DTSTART;TZID=America/New_York:20251219T104500
DTEND;TZID=America/New_York:20251219T120000
DTSTAMP:20260420T101511
CREATED:20250816T000353Z
LAST-MODIFIED:20250816T000353Z
UID:10001990-1766141100-1766145600@www.theepiphanyschool.org
SUMMARY:Lower School Christmas Show\, 10:45am
DESCRIPTION:
URL:https://www.theepiphanyschool.org/event/lower-school-christmas-show-1045am-4/
LOCATION:Parish Hall\, 375 Second Avenue\, New York\, NY\, 10010\, United States
CATEGORIES:The Epiphany School
END:VEVENT
BEGIN:VEVENT
DTSTART;VALUE=DATE:20251221
DTEND;VALUE=DATE:20251222
DTSTAMP:20260420T101511
CREATED:20250528T173701Z
LAST-MODIFIED:20250528T173701Z
UID:10001896-1766275200-1766361599@www.theepiphanyschool.org
SUMMARY:4th Sunday of Advent
DESCRIPTION:
URL:https://www.theepiphanyschool.org/event/4th-sunday-of-advent-2/
LOCATION:NY
CATEGORIES:The Epiphany School,The Epiphany Church
END:VEVENT
BEGIN:VEVENT
DTSTART;VALUE=DATE:20251222
DTEND;VALUE=DATE:20251223
DTSTAMP:20260420T101511
CREATED:20251114T180511Z
LAST-MODIFIED:20251114T180511Z
UID:10002035-1766361600-1766447999@www.theepiphanyschool.org
SUMMARY:Full School Day/ No After-School
DESCRIPTION:
URL:https://www.theepiphanyschool.org/event/full-school-day-no-after-school/
LOCATION:NY
CATEGORIES:The Epiphany School
END:VEVENT
BEGIN:VEVENT
DTSTART;VALUE=DATE:20251222
DTEND;VALUE=DATE:20251223
DTSTAMP:20260420T101511
CREATED:20251119T145304Z
LAST-MODIFIED:20251119T145304Z
UID:10002036-1766361600-1766447999@www.theepiphanyschool.org
SUMMARY:Pajama Day! Wear your Christmas Pajamas to School!
DESCRIPTION:
URL:https://www.theepiphanyschool.org/event/pajama-day-wear-your-christmas-pajamas-to-school/
LOCATION:NY
CATEGORIES:The Epiphany School,Epiphany Family Association
END:VEVENT
BEGIN:VEVENT
DTSTART;VALUE=DATE:20251223
DTEND;VALUE=DATE:20260105
DTSTAMP:20260420T101511
CREATED:20250815T235332Z
LAST-MODIFIED:20250815T235332Z
UID:10001987-1766448000-1767571199@www.theepiphanyschool.org
SUMMARY:NO SCHOOL\, Christmas Vacation
DESCRIPTION:
URL:https://www.theepiphanyschool.org/event/no-school-christmas-vacation/
LOCATION:NY
CATEGORIES:The Epiphany School
END:VEVENT
BEGIN:VEVENT
DTSTART;VALUE=DATE:20251225
DTEND;VALUE=DATE:20251226
DTSTAMP:20260420T101511
CREATED:20250816T000658Z
LAST-MODIFIED:20250816T000658Z
UID:10001993-1766620800-1766707199@www.theepiphanyschool.org
SUMMARY:Merry Christmas
DESCRIPTION:
URL:https://www.theepiphanyschool.org/event/merry-christmas-6/
LOCATION:NY
CATEGORIES:The Epiphany School
END:VEVENT
BEGIN:VEVENT
DTSTART;VALUE=DATE:20251231
DTEND;VALUE=DATE:20260101
DTSTAMP:20260420T101511
CREATED:20250816T000428Z
LAST-MODIFIED:20250816T000428Z
UID:10001991-1767139200-1767225599@www.theepiphanyschool.org
SUMMARY:New Year's Eve
DESCRIPTION:
URL:https://www.theepiphanyschool.org/event/new-years-eve-4/
LOCATION:NY
CATEGORIES:The Epiphany School
END:VEVENT
END:VCALENDAR