BEGIN:VCALENDAR
VERSION:2.0
PRODID:-//Epiphany - ECPv6.15.18//NONSGML v1.0//EN
CALSCALE:GREGORIAN
METHOD:PUBLISH
X-ORIGINAL-URL:https://www.theepiphanyschool.org
X-WR-CALDESC:Events for Epiphany
REFRESH-INTERVAL;VALUE=DURATION:PT1H
X-Robots-Tag:noindex
X-PUBLISHED-TTL:PT1H
BEGIN:VTIMEZONE
TZID:America/New_York
BEGIN:DAYLIGHT
TZOFFSETFROM:-0500
TZOFFSETTO:-0400
TZNAME:EDT
DTSTART:20240310T070000
END:DAYLIGHT
BEGIN:STANDARD
TZOFFSETFROM:-0400
TZOFFSETTO:-0500
TZNAME:EST
DTSTART:20241103T060000
END:STANDARD
BEGIN:DAYLIGHT
TZOFFSETFROM:-0500
TZOFFSETTO:-0400
TZNAME:EDT
DTSTART:20250309T070000
END:DAYLIGHT
BEGIN:STANDARD
TZOFFSETFROM:-0400
TZOFFSETTO:-0500
TZNAME:EST
DTSTART:20251102T060000
END:STANDARD
BEGIN:DAYLIGHT
TZOFFSETFROM:-0500
TZOFFSETTO:-0400
TZNAME:EDT
DTSTART:20260308T070000
END:DAYLIGHT
BEGIN:STANDARD
TZOFFSETFROM:-0400
TZOFFSETTO:-0500
TZNAME:EST
DTSTART:20261101T060000
END:STANDARD
BEGIN:DAYLIGHT
TZOFFSETFROM:-0500
TZOFFSETTO:-0400
TZNAME:EDT
DTSTART:20270314T070000
END:DAYLIGHT
BEGIN:STANDARD
TZOFFSETFROM:-0400
TZOFFSETTO:-0500
TZNAME:EST
DTSTART:20271107T060000
END:STANDARD
END:VTIMEZONE
BEGIN:VEVENT
DTSTART;VALUE=DATE:20251223
DTEND;VALUE=DATE:20260105
DTSTAMP:20260420T085625
CREATED:20250815T235332Z
LAST-MODIFIED:20250815T235332Z
UID:10001987-1766448000-1767571199@www.theepiphanyschool.org
SUMMARY:NO SCHOOL\, Christmas Vacation
DESCRIPTION:
URL:https://www.theepiphanyschool.org/event/no-school-christmas-vacation/
LOCATION:NY
CATEGORIES:The Epiphany School
END:VEVENT
BEGIN:VEVENT
DTSTART;VALUE=DATE:20260101
DTEND;VALUE=DATE:20260102
DTSTAMP:20260420T085625
CREATED:20250816T000618Z
LAST-MODIFIED:20250816T000618Z
UID:10001992-1767225600-1767311999@www.theepiphanyschool.org
SUMMARY:Happy New Year!
DESCRIPTION:
URL:https://www.theepiphanyschool.org/event/happy-new-year-3/
LOCATION:NY
CATEGORIES:The Epiphany School
END:VEVENT
BEGIN:VEVENT
DTSTART;VALUE=DATE:20260105
DTEND;VALUE=DATE:20260106
DTSTAMP:20260420T085625
CREATED:20250623T152035Z
LAST-MODIFIED:20250623T152035Z
UID:10001936-1767571200-1767657599@www.theepiphanyschool.org
SUMMARY:School Resumes
DESCRIPTION:
URL:https://www.theepiphanyschool.org/event/school-resumes-10/
LOCATION:NY
CATEGORIES:The Epiphany School
END:VEVENT
BEGIN:VEVENT
DTSTART;TZID=America/New_York:20260106T083000
DTEND;TZID=America/New_York:20260106T100000
DTSTAMP:20260420T085625
CREATED:20250624T184524Z
LAST-MODIFIED:20250624T184524Z
UID:10001965-1767688200-1767693600@www.theepiphanyschool.org
SUMMARY:Mass\, Feast of the Epiphany: students K - 8th; Upper School students meet in the Parish Hall at 8:30am
DESCRIPTION:
URL:https://www.theepiphanyschool.org/event/mass-feast-of-the-epiphany-students-k-8th-upper-school-students-meet-in-the-parish-hall-at-830am/
LOCATION:NY
CATEGORIES:The Epiphany School,The Epiphany Church
END:VEVENT
BEGIN:VEVENT
DTSTART;VALUE=DATE:20260108
DTEND;VALUE=DATE:20260109
DTSTAMP:20260420T085625
CREATED:20250816T002456Z
LAST-MODIFIED:20250816T002456Z
UID:10001994-1767830400-1767916799@www.theepiphanyschool.org
SUMMARY:Graduation Portraits
DESCRIPTION:
URL:https://www.theepiphanyschool.org/event/graduation-portraits-2/
LOCATION:Upper School Gym\, 141 East 28th Street\, New York\, NY\, 10016\, United States
CATEGORIES:The Epiphany School
END:VEVENT
BEGIN:VEVENT
DTSTART;VALUE=DATE:20260109
DTEND;VALUE=DATE:20260110
DTSTAMP:20260420T085625
CREATED:20250616T190308Z
LAST-MODIFIED:20250616T190308Z
UID:10001925-1767916800-1768003199@www.theepiphanyschool.org
SUMMARY:Half Day\, All Students are Dismissed at 11:30
DESCRIPTION:
URL:https://www.theepiphanyschool.org/event/half-day-all-students-are-dismissed-at-1130-4/
LOCATION:NY
CATEGORIES:The Epiphany School
END:VEVENT
BEGIN:VEVENT
DTSTART;VALUE=DATE:20260119
DTEND;VALUE=DATE:20260120
DTSTAMP:20260420T085625
CREATED:20250528T180351Z
LAST-MODIFIED:20250623T161625Z
UID:10001907-1768780800-1768867199@www.theepiphanyschool.org
SUMMARY:School Closed\, Martin Luther King Day
DESCRIPTION:
URL:https://www.theepiphanyschool.org/event/martin-luther-king-day-school-closed/
LOCATION:NY
CATEGORIES:The Epiphany School
END:VEVENT
BEGIN:VEVENT
DTSTART;TZID=America/New_York:20260123T180000
DTEND;TZID=America/New_York:20260123T210000
DTSTAMP:20260420T085625
CREATED:20250816T002602Z
LAST-MODIFIED:20260112T150931Z
UID:10001995-1769191200-1769202000@www.theepiphanyschool.org
SUMMARY:7th & 8th Grade Dance: Winter Wonderland
DESCRIPTION:
URL:https://www.theepiphanyschool.org/event/7th-8th-grade-dance-9/
LOCATION:Upper School Gym\, 141 East 28th Street\, New York\, NY\, 10016\, United States
CATEGORIES:The Epiphany School,Epiphany Family Association
END:VEVENT
BEGIN:VEVENT
DTSTART;VALUE=DATE:20260125
DTEND;VALUE=DATE:20260201
DTSTAMP:20260420T085625
CREATED:20260104T220740Z
LAST-MODIFIED:20260104T220740Z
UID:10002041-1769299200-1769903999@www.theepiphanyschool.org
SUMMARY:Catholic Schools Week
DESCRIPTION:
URL:https://www.theepiphanyschool.org/event/catholic-schools-week-8/
LOCATION:NY
CATEGORIES:The Epiphany School
END:VEVENT
BEGIN:VEVENT
DTSTART;VALUE=DATE:20260126
DTEND;VALUE=DATE:20260127
DTSTAMP:20260420T085625
CREATED:20260125T162831Z
LAST-MODIFIED:20260125T162831Z
UID:10002047-1769385600-1769471999@www.theepiphanyschool.org
SUMMARY:SNOW DAY! School is closed today
DESCRIPTION:
URL:https://www.theepiphanyschool.org/event/snow-day-school-is-closed-today/
LOCATION:NY
CATEGORIES:The Epiphany School
END:VEVENT
BEGIN:VEVENT
DTSTART;TZID=America/New_York:20260128T090000
DTEND;TZID=America/New_York:20260128T110000
DTSTAMP:20260420T085625
CREATED:20250816T003110Z
LAST-MODIFIED:20260127T010534Z
UID:10001997-1769590800-1769598000@www.theepiphanyschool.org
SUMMARY:Ring Day Mass\, Upper School students meet in the Parish Hall at 8:30am
DESCRIPTION:The Class of 2026 will receive their school rings at a Mass attended by the 8th graders and their families as well as students in grades 4 – 7. The Mass will be followed by a breakfast for the Class of 2026 and their families.
URL:https://www.theepiphanyschool.org/event/ring-day-mass-900am/
LOCATION:The Epiphany Church
CATEGORIES:The Epiphany School,Epiphany Family Association
END:VEVENT
BEGIN:VEVENT
DTSTART;VALUE=DATE:20260130
DTEND;VALUE=DATE:20260131
DTSTAMP:20260420T085625
CREATED:20260115T180410Z
LAST-MODIFIED:20260115T180410Z
UID:10002042-1769731200-1769817599@www.theepiphanyschool.org
SUMMARY:2nd Quarter Ends
DESCRIPTION:
URL:https://www.theepiphanyschool.org/event/2nd-quarter-ends/
LOCATION:NY
CATEGORIES:The Epiphany School
END:VEVENT
BEGIN:VEVENT
DTSTART;VALUE=DATE:20260130
DTEND;VALUE=DATE:20260131
DTSTAMP:20260420T085625
CREATED:20260126T154059Z
LAST-MODIFIED:20260126T154139Z
UID:10002048-1769731200-1769817599@www.theepiphanyschool.org
SUMMARY:Spirit Day! Dress Down in Blue\, White\, & Gold
DESCRIPTION:Dress down in blue\, white\, and gold to show your Epiphany spirit and get ready for some fun & games!\nGo Blue Jays!
URL:https://www.theepiphanyschool.org/event/spirit-day-3/
LOCATION:NY
CATEGORIES:The Epiphany School,Epiphany Family Association
END:VEVENT
BEGIN:VEVENT
DTSTART;TZID=America/New_York:20260130T180000
DTEND;TZID=America/New_York:20260130T210000
DTSTAMP:20260420T085625
CREATED:20250816T002734Z
LAST-MODIFIED:20250816T002734Z
UID:10001996-1769796000-1769806800@www.theepiphanyschool.org
SUMMARY:Talent Show
DESCRIPTION:
URL:https://www.theepiphanyschool.org/event/talent-show-3/
LOCATION:Parish Hall\, 375 Second Avenue\, New York\, NY\, 10010\, United States
CATEGORIES:The Epiphany School
END:VEVENT
END:VCALENDAR