BEGIN:VCALENDAR
VERSION:2.0
PRODID:-//Epiphany - ECPv6.15.18//NONSGML v1.0//EN
CALSCALE:GREGORIAN
METHOD:PUBLISH
X-WR-CALNAME:Epiphany
X-ORIGINAL-URL:https://www.theepiphanyschool.org
X-WR-CALDESC:Events for Epiphany
REFRESH-INTERVAL;VALUE=DURATION:PT1H
X-Robots-Tag:noindex
X-PUBLISHED-TTL:PT1H
BEGIN:VTIMEZONE
TZID:America/New_York
BEGIN:DAYLIGHT
TZOFFSETFROM:-0500
TZOFFSETTO:-0400
TZNAME:EDT
DTSTART:20250309T070000
END:DAYLIGHT
BEGIN:STANDARD
TZOFFSETFROM:-0400
TZOFFSETTO:-0500
TZNAME:EST
DTSTART:20251102T060000
END:STANDARD
BEGIN:DAYLIGHT
TZOFFSETFROM:-0500
TZOFFSETTO:-0400
TZNAME:EDT
DTSTART:20260308T070000
END:DAYLIGHT
BEGIN:STANDARD
TZOFFSETFROM:-0400
TZOFFSETTO:-0500
TZNAME:EST
DTSTART:20261101T060000
END:STANDARD
BEGIN:DAYLIGHT
TZOFFSETFROM:-0500
TZOFFSETTO:-0400
TZNAME:EDT
DTSTART:20270314T070000
END:DAYLIGHT
BEGIN:STANDARD
TZOFFSETFROM:-0400
TZOFFSETTO:-0500
TZNAME:EST
DTSTART:20271107T060000
END:STANDARD
END:VTIMEZONE
BEGIN:VEVENT
DTSTART;TZID=America/New_York:20260201T110000
DTEND;TZID=America/New_York:20260201T120000
DTSTAMP:20260420T070541
CREATED:20250625T144821Z
LAST-MODIFIED:20250625T144821Z
UID:10001969-1769943600-1769947200@www.theepiphanyschool.org
SUMMARY:Class Mass\, 1st & 4th Grades\, 11:00am
DESCRIPTION:
URL:https://www.theepiphanyschool.org/event/class-mass-1st-4th-grades-1100am/
LOCATION:The Epiphany Church\, 375 2nd Avenue\, New York\, NY\, 10010\, United States
CATEGORIES:The Epiphany School,The Epiphany Church
END:VEVENT
BEGIN:VEVENT
DTSTART;VALUE=DATE:20260202
DTEND;VALUE=DATE:20260203
DTSTAMP:20260420T070541
CREATED:20250623T154607Z
LAST-MODIFIED:20250623T160844Z
UID:10001947-1769990400-1770076799@www.theepiphanyschool.org
SUMMARY:Ground Hog Day
DESCRIPTION:
URL:https://www.theepiphanyschool.org/event/ground-hog-day/
LOCATION:NY
CATEGORIES:The Epiphany School
END:VEVENT
BEGIN:VEVENT
DTSTART;VALUE=DATE:20260206
DTEND;VALUE=DATE:20260207
DTSTAMP:20260420T070541
CREATED:20260120T204354Z
LAST-MODIFIED:20260120T204354Z
UID:10002044-1770336000-1770422399@www.theepiphanyschool.org
SUMMARY:Installation of the Most Rev. Ronald Hicks as the 11th Archbishop of New York
DESCRIPTION:
URL:https://www.theepiphanyschool.org/event/installation-of-the-most-rev-ronald-hicks-as-the-11th-archbishop-of-new-york/
LOCATION:NY
CATEGORIES:The Epiphany School,The Epiphany Church
END:VEVENT
BEGIN:VEVENT
DTSTART;VALUE=DATE:20260208
DTEND;VALUE=DATE:20260209
DTSTAMP:20260420T070541
CREATED:20250623T154350Z
LAST-MODIFIED:20250623T154350Z
UID:10001943-1770508800-1770595199@www.theepiphanyschool.org
SUMMARY:Super Bowl Sunday
DESCRIPTION:
URL:https://www.theepiphanyschool.org/event/super-bowl-sunday-4/
LOCATION:NY
CATEGORIES:The Epiphany School
END:VEVENT
BEGIN:VEVENT
DTSTART;VALUE=DATE:20260209
DTEND;VALUE=DATE:20260211
DTSTAMP:20260420T070541
CREATED:20250816T003651Z
LAST-MODIFIED:20250816T003651Z
UID:10002000-1770595200-1770767999@www.theepiphanyschool.org
SUMMARY:Book Fair\, ECC & Upper School
DESCRIPTION:
URL:https://www.theepiphanyschool.org/event/book-fair-ecc-upper-school-2/
LOCATION:NY
CATEGORIES:The Epiphany School,Epiphany Family Association
END:VEVENT
BEGIN:VEVENT
DTSTART;VALUE=DATE:20260211
DTEND;VALUE=DATE:20260212
DTSTAMP:20260420T070541
CREATED:20250816T003813Z
LAST-MODIFIED:20250816T003813Z
UID:10002001-1770768000-1770854399@www.theepiphanyschool.org
SUMMARY:Book Character Day
DESCRIPTION:Dress as your favorite character from fiction.
URL:https://www.theepiphanyschool.org/event/book-character-day-4/
LOCATION:NY
CATEGORIES:The Epiphany School
END:VEVENT
BEGIN:VEVENT
DTSTART;VALUE=DATE:20260212
DTEND;VALUE=DATE:20260214
DTSTAMP:20260420T070541
CREATED:20250816T003903Z
LAST-MODIFIED:20250816T003903Z
UID:10002002-1770854400-1771027199@www.theepiphanyschool.org
SUMMARY:Book Fair\, Lower School
DESCRIPTION:
URL:https://www.theepiphanyschool.org/event/book-fair-lower-school-4/
LOCATION:Parish Hall\, 375 Second Avenue\, New York\, NY\, 10010\, United States
CATEGORIES:The Epiphany School
END:VEVENT
BEGIN:VEVENT
DTSTART;TZID=America/New_York:20260213T083000
DTEND;TZID=America/New_York:20260213T100000
DTSTAMP:20260420T070541
CREATED:20250816T011635Z
LAST-MODIFIED:20250816T011635Z
UID:10002011-1770971400-1770976800@www.theepiphanyschool.org
SUMMARY:Mass\, Preparing for Lent: students K - 8th; Upper School students meet in the Parish Hall at 8:30am
DESCRIPTION:
URL:https://www.theepiphanyschool.org/event/mass-preparing-for-lent-students-k-8th-upper-school-students-meet-in-the-parish-hall-at-830am/
LOCATION:The Epiphany Church
CATEGORIES:The Epiphany School,The Epiphany Church
END:VEVENT
BEGIN:VEVENT
DTSTART;VALUE=DATE:20260214
DTEND;VALUE=DATE:20260215
DTSTAMP:20260420T070541
CREATED:20250816T003504Z
LAST-MODIFIED:20250816T003504Z
UID:10001998-1771027200-1771113599@www.theepiphanyschool.org
SUMMARY:Valentine's Day
DESCRIPTION:
URL:https://www.theepiphanyschool.org/event/valentines-day-2/
LOCATION:NY
CATEGORIES:The Epiphany School
END:VEVENT
BEGIN:VEVENT
DTSTART;VALUE=DATE:20260216
DTEND;VALUE=DATE:20260217
DTSTAMP:20260420T070541
CREATED:20250816T003542Z
LAST-MODIFIED:20250816T003542Z
UID:10001999-1771200000-1771286399@www.theepiphanyschool.org
SUMMARY:Presidents' Day
DESCRIPTION:
URL:https://www.theepiphanyschool.org/event/presidents-day-5/
LOCATION:NY
CATEGORIES:The Epiphany School
END:VEVENT
BEGIN:VEVENT
DTSTART;VALUE=DATE:20260216
DTEND;VALUE=DATE:20260221
DTSTAMP:20260420T070541
CREATED:20250616T164746Z
LAST-MODIFIED:20250616T164746Z
UID:10001912-1771200000-1771631999@www.theepiphanyschool.org
SUMMARY:School Closed\, Winter Break
DESCRIPTION:
URL:https://www.theepiphanyschool.org/event/school-closed-winter-break/
LOCATION:NY
CATEGORIES:The Epiphany School
END:VEVENT
BEGIN:VEVENT
DTSTART;VALUE=DATE:20260217
DTEND;VALUE=DATE:20260218
DTSTAMP:20260420T070541
CREATED:20250623T154525Z
LAST-MODIFIED:20260105T170604Z
UID:10001946-1771286400-1771372799@www.theepiphanyschool.org
SUMMARY:Lunar New Year\, The Year of the Horse Begins
DESCRIPTION:The Year of the Horse gallops in with vibrant and fiery energy\, symbolizing adventure\, vitality\, and momentum.
URL:https://www.theepiphanyschool.org/event/lunar-new-year-8/
LOCATION:NY
CATEGORIES:The Epiphany School
END:VEVENT
BEGIN:VEVENT
DTSTART;VALUE=DATE:20260217
DTEND;VALUE=DATE:20260218
DTSTAMP:20260420T070541
CREATED:20250623T155614Z
LAST-MODIFIED:20250623T155614Z
UID:10001949-1771286400-1771372799@www.theepiphanyschool.org
SUMMARY:Mardi Gras
DESCRIPTION:
URL:https://www.theepiphanyschool.org/event/mardi-gras-4/
LOCATION:NY
CATEGORIES:The Epiphany School,The Epiphany Church
END:VEVENT
BEGIN:VEVENT
DTSTART;VALUE=DATE:20260218
DTEND;VALUE=DATE:20260219
DTSTAMP:20260420T070541
CREATED:20250623T155645Z
LAST-MODIFIED:20250623T155645Z
UID:10001950-1771372800-1771459199@www.theepiphanyschool.org
SUMMARY:Ash Wednesday
DESCRIPTION:
URL:https://www.theepiphanyschool.org/event/ash-wednesday-8/
LOCATION:NY
CATEGORIES:The Epiphany School,The Epiphany Church
END:VEVENT
BEGIN:VEVENT
DTSTART;VALUE=DATE:20260223
DTEND;VALUE=DATE:20260224
DTSTAMP:20260420T070541
CREATED:20260222T200748Z
LAST-MODIFIED:20260222T200748Z
UID:10002053-1771804800-1771891199@www.theepiphanyschool.org
SUMMARY:SNOW DAY! School closed.
DESCRIPTION:
URL:https://www.theepiphanyschool.org/event/snow-day-school-closed/
LOCATION:NY
CATEGORIES:The Epiphany School,The Epiphany Church
END:VEVENT
BEGIN:VEVENT
DTSTART;VALUE=DATE:20260224
DTEND;VALUE=DATE:20260225
DTSTAMP:20260420T070541
CREATED:20260223T215541Z
LAST-MODIFIED:20260223T215541Z
UID:10002054-1771891200-1771977599@www.theepiphanyschool.org
SUMMARY:School resumes today
DESCRIPTION:
URL:https://www.theepiphanyschool.org/event/school-resumes-today-2/
LOCATION:NY
CATEGORIES:The Epiphany School
END:VEVENT
BEGIN:VEVENT
DTSTART;VALUE=DATE:20260228
DTEND;VALUE=DATE:20260301
DTSTAMP:20260420T070541
CREATED:20251120T155628Z
LAST-MODIFIED:20251120T155628Z
UID:10002038-1772236800-1772323199@www.theepiphanyschool.org
SUMMARY:First Communion Retreat
DESCRIPTION:All student preparing to receive their First Holy Communion must attend\, parent participation is encouraged.
URL:https://www.theepiphanyschool.org/event/first-communion-retreat/
LOCATION:NY
CATEGORIES:The Epiphany School,The Epiphany Church
END:VEVENT
END:VCALENDAR