BEGIN:VCALENDAR
VERSION:2.0
PRODID:-//Epiphany - ECPv6.15.18//NONSGML v1.0//EN
CALSCALE:GREGORIAN
METHOD:PUBLISH
X-WR-CALNAME:Epiphany
X-ORIGINAL-URL:https://www.theepiphanyschool.org
X-WR-CALDESC:Events for Epiphany
REFRESH-INTERVAL;VALUE=DURATION:PT1H
X-Robots-Tag:noindex
X-PUBLISHED-TTL:PT1H
BEGIN:VTIMEZONE
TZID:America/New_York
BEGIN:DAYLIGHT
TZOFFSETFROM:-0500
TZOFFSETTO:-0400
TZNAME:EDT
DTSTART:20250309T070000
END:DAYLIGHT
BEGIN:STANDARD
TZOFFSETFROM:-0400
TZOFFSETTO:-0500
TZNAME:EST
DTSTART:20251102T060000
END:STANDARD
BEGIN:DAYLIGHT
TZOFFSETFROM:-0500
TZOFFSETTO:-0400
TZNAME:EDT
DTSTART:20260308T070000
END:DAYLIGHT
BEGIN:STANDARD
TZOFFSETFROM:-0400
TZOFFSETTO:-0500
TZNAME:EST
DTSTART:20261101T060000
END:STANDARD
BEGIN:DAYLIGHT
TZOFFSETFROM:-0500
TZOFFSETTO:-0400
TZNAME:EDT
DTSTART:20270314T070000
END:DAYLIGHT
BEGIN:STANDARD
TZOFFSETFROM:-0400
TZOFFSETTO:-0500
TZNAME:EST
DTSTART:20271107T060000
END:STANDARD
END:VTIMEZONE
BEGIN:VEVENT
DTSTART;TZID=America/New_York:20260301T110000
DTEND;TZID=America/New_York:20260301T120000
DTSTAMP:20260420T053914
CREATED:20250625T144938Z
LAST-MODIFIED:20250625T144938Z
UID:10001970-1772362800-1772366400@www.theepiphanyschool.org
SUMMARY:Class Mass\, Kindergarten & 3rd Grade\, 11:00am
DESCRIPTION:
URL:https://www.theepiphanyschool.org/event/class-mass-kindergarten-3rd-grade-1100am-2/
LOCATION:The Epiphany Church\, 375 2nd Avenue\, New York\, NY\, 10010\, United States
CATEGORIES:The Epiphany School,The Epiphany Church
END:VEVENT
BEGIN:VEVENT
DTSTART;TZID=America/New_York:20260301T160000
DTEND;TZID=America/New_York:20260301T180000
DTSTAMP:20260420T053914
CREATED:20250816T010509Z
LAST-MODIFIED:20260121T181016Z
UID:10002005-1772380800-1772388000@www.theepiphanyschool.org
SUMMARY:Intramural Basketball Awards
DESCRIPTION:
URL:https://www.theepiphanyschool.org/event/intramural-basketball-awards/
LOCATION:Parish Hall\, 375 Second Avenue\, New York\, NY\, 10010\, United States
CATEGORIES:The Epiphany School,Epiphany Sports
END:VEVENT
BEGIN:VEVENT
DTSTART;VALUE=DATE:20260302
DTEND;VALUE=DATE:20260303
DTSTAMP:20260420T053914
CREATED:20250623T155912Z
LAST-MODIFIED:20250623T160752Z
UID:10001954-1772409600-1772495999@www.theepiphanyschool.org
SUMMARY:Read Across America Day
DESCRIPTION:
URL:https://www.theepiphanyschool.org/event/read-across-america-day-7/
LOCATION:NY
CATEGORIES:The Epiphany School
END:VEVENT
BEGIN:VEVENT
DTSTART;VALUE=DATE:20260304
DTEND;VALUE=DATE:20260305
DTSTAMP:20260420T053914
CREATED:20250816T010307Z
LAST-MODIFIED:20250816T010307Z
UID:10002003-1772582400-1772668799@www.theepiphanyschool.org
SUMMARY:Upper School Science Fair
DESCRIPTION:
URL:https://www.theepiphanyschool.org/event/upper-school-science-fair-4/
LOCATION:Upper School Gym\, 141 East 28th Street\, New York\, NY\, 10016\, United States
CATEGORIES:The Epiphany School
END:VEVENT
BEGIN:VEVENT
DTSTART;VALUE=DATE:20260306
DTEND;VALUE=DATE:20260307
DTSTAMP:20260420T053914
CREATED:20250623T152830Z
LAST-MODIFIED:20260205T141950Z
UID:10001938-1772755200-1772841599@www.theepiphanyschool.org
SUMMARY:Half Day\, All Students are Dismissed at 11:30
DESCRIPTION:After school programs will not be available.
URL:https://www.theepiphanyschool.org/event/half-day-all-students-are-dismissed-at-1130-8/
LOCATION:NY
CATEGORIES:The Epiphany School
END:VEVENT
BEGIN:VEVENT
DTSTART;TZID=America/New_York:20260306T180000
DTEND;TZID=America/New_York:20260306T200000
DTSTAMP:20260420T053914
CREATED:20250816T010405Z
LAST-MODIFIED:20260224T172530Z
UID:10002004-1772820000-1772827200@www.theepiphanyschool.org
SUMMARY:EFA Family Bingo!
DESCRIPTION:
URL:https://www.theepiphanyschool.org/event/efa-family-party-2/
LOCATION:Parish Hall\, 375 Second Avenue\, New York\, NY\, 10010\, United States
CATEGORIES:The Epiphany School,Epiphany Family Association
END:VEVENT
BEGIN:VEVENT
DTSTART;VALUE=DATE:20260308
DTEND;VALUE=DATE:20260309
DTSTAMP:20260420T053914
CREATED:20250623T155952Z
LAST-MODIFIED:20250623T160219Z
UID:10001955-1772928000-1773014399@www.theepiphanyschool.org
SUMMARY:Daylight Saving Time Begins
DESCRIPTION:Sunday\, March 8\, 2026\, 2:00:00 am clocks are turned forward 1 hour to\nSunday\, March 8\, 2026\, 3:00:00 am local daylight time instead.
URL:https://www.theepiphanyschool.org/event/daylight-saving-time-begins-7/
LOCATION:NY
CATEGORIES:The Epiphany School
END:VEVENT
BEGIN:VEVENT
DTSTART;VALUE=DATE:20260313
DTEND;VALUE=DATE:20260314
DTSTAMP:20260420T053914
CREATED:20250816T010553Z
LAST-MODIFIED:20250816T010553Z
UID:10002006-1773360000-1773446399@www.theepiphanyschool.org
SUMMARY:NO SCHOOL\, Faculty Conference
DESCRIPTION:
URL:https://www.theepiphanyschool.org/event/no-school-faculty-conference/
LOCATION:NY
CATEGORIES:The Epiphany School
END:VEVENT
BEGIN:VEVENT
DTSTART;VALUE=DATE:20260317
DTEND;VALUE=DATE:20260318
DTSTAMP:20260420T053914
CREATED:20250623T161212Z
LAST-MODIFIED:20250623T161212Z
UID:10001958-1773705600-1773791999@www.theepiphanyschool.org
SUMMARY:St. Patrick's Day
DESCRIPTION:
URL:https://www.theepiphanyschool.org/event/st-patricks-day-8/
LOCATION:NY
CATEGORIES:The Epiphany School
END:VEVENT
BEGIN:VEVENT
DTSTART;VALUE=DATE:20260319
DTEND;VALUE=DATE:20260320
DTSTAMP:20260420T053914
CREATED:20250816T010640Z
LAST-MODIFIED:20250816T015038Z
UID:10002007-1773878400-1773964799@www.theepiphanyschool.org
SUMMARY:ESF Annual Spring Benefit
DESCRIPTION:
URL:https://www.theepiphanyschool.org/event/esf-spring-benefit/
LOCATION:NY
CATEGORIES:The Epiphany Foundation
END:VEVENT
BEGIN:VEVENT
DTSTART;VALUE=DATE:20260320
DTEND;VALUE=DATE:20260321
DTSTAMP:20260420T053914
CREATED:20251010T125705Z
LAST-MODIFIED:20251010T125705Z
UID:10002032-1773964800-1774051199@www.theepiphanyschool.org
SUMMARY:Eid al-Fitr
DESCRIPTION:
URL:https://www.theepiphanyschool.org/event/eid-al-fitr/
LOCATION:NY
CATEGORIES:The Epiphany School
END:VEVENT
BEGIN:VEVENT
DTSTART;VALUE=DATE:20260321
DTEND;VALUE=DATE:20260322
DTSTAMP:20260420T053914
CREATED:20251120T155441Z
LAST-MODIFIED:20251120T155441Z
UID:10002037-1774051200-1774137599@www.theepiphanyschool.org
SUMMARY:Confirmation Retreat
DESCRIPTION:All students preparing for Confirmation must attend.
URL:https://www.theepiphanyschool.org/event/confirmation-retreat-3/
LOCATION:NY
CATEGORIES:The Epiphany School,The Epiphany Church
END:VEVENT
BEGIN:VEVENT
DTSTART;VALUE=DATE:20260323
DTEND;VALUE=DATE:20260324
DTSTAMP:20260420T053914
CREATED:20250616T170138Z
LAST-MODIFIED:20250616T170138Z
UID:10001915-1774224000-1774310399@www.theepiphanyschool.org
SUMMARY:School Closed\, Teacher Conference
DESCRIPTION:
URL:https://www.theepiphanyschool.org/event/school-closed-teacher-conference-7/
LOCATION:NY
CATEGORIES:The Epiphany School
END:VEVENT
BEGIN:VEVENT
DTSTART;TZID=America/New_York:20260323T150000
DTEND;TZID=America/New_York:20260323T173000
DTSTAMP:20260420T053914
CREATED:20260319T190735Z
LAST-MODIFIED:20260319T190735Z
UID:10002055-1774278000-1774287000@www.theepiphanyschool.org
SUMMARY:Play Practice\, full cast and crew\, 3:00 - 5:30pm
DESCRIPTION:
URL:https://www.theepiphanyschool.org/event/play-practice-full-cast-and-crew-300-530pm/
LOCATION:Upper School Gym\, 141 East 28th Street\, New York\, NY\, 10016\, United States
CATEGORIES:The Epiphany School
END:VEVENT
BEGIN:VEVENT
DTSTART;VALUE=DATE:20260327
DTEND;VALUE=DATE:20260328
DTSTAMP:20260420T053914
CREATED:20260326T190041Z
LAST-MODIFIED:20260326T190041Z
UID:10002056-1774569600-1774655999@www.theepiphanyschool.org
SUMMARY:Dress Down Day!
DESCRIPTION:Show your support for the Cast & Crew of Mary Poppins Jr. by wearing your Mary Poppins t-shirt\, red\, or black.
URL:https://www.theepiphanyschool.org/event/dress-down-day-3/
LOCATION:NY
CATEGORIES:The Epiphany School
END:VEVENT
BEGIN:VEVENT
DTSTART;VALUE=DATE:20260327
DTEND;VALUE=DATE:20260329
DTSTAMP:20260420T053914
CREATED:20250816T011909Z
LAST-MODIFIED:20260323T152356Z
UID:10002012-1774569600-1774742399@www.theepiphanyschool.org
SUMMARY:School Musical Weekend\, It's Mary Poppins!
DESCRIPTION:
URL:https://www.theepiphanyschool.org/event/school-musical-weekend/
LOCATION:Upper School Gym\, 141 East 28th Street\, New York\, NY\, 10016\, United States
CATEGORIES:The Epiphany School
END:VEVENT
BEGIN:VEVENT
DTSTART;VALUE=DATE:20260329
DTEND;VALUE=DATE:20260330
DTSTAMP:20260420T053914
CREATED:20250528T180306Z
LAST-MODIFIED:20260327T125906Z
UID:10001906-1774742400-1774828799@www.theepiphanyschool.org
SUMMARY:Palm Sunday\, Family Mass at 11:00am; Join us on the Church Plaza at 10:40 for the Palm Sunday Procession
DESCRIPTION:
URL:https://www.theepiphanyschool.org/event/palm-sunday-9/
LOCATION:The Epiphany Church\, 375 2nd Avenue\, New York\, NY\, 10010\, United States
CATEGORIES:The Epiphany School,The Epiphany Church
END:VEVENT
END:VCALENDAR