BEGIN:VCALENDAR
VERSION:2.0
PRODID:-//Epiphany - ECPv6.15.18//NONSGML v1.0//EN
CALSCALE:GREGORIAN
METHOD:PUBLISH
X-WR-CALNAME:Epiphany
X-ORIGINAL-URL:https://www.theepiphanyschool.org
X-WR-CALDESC:Events for Epiphany
REFRESH-INTERVAL;VALUE=DURATION:PT1H
X-Robots-Tag:noindex
X-PUBLISHED-TTL:PT1H
BEGIN:VTIMEZONE
TZID:America/New_York
BEGIN:DAYLIGHT
TZOFFSETFROM:-0500
TZOFFSETTO:-0400
TZNAME:EDT
DTSTART:20250309T070000
END:DAYLIGHT
BEGIN:STANDARD
TZOFFSETFROM:-0400
TZOFFSETTO:-0500
TZNAME:EST
DTSTART:20251102T060000
END:STANDARD
BEGIN:DAYLIGHT
TZOFFSETFROM:-0500
TZOFFSETTO:-0400
TZNAME:EDT
DTSTART:20260308T070000
END:DAYLIGHT
BEGIN:STANDARD
TZOFFSETFROM:-0400
TZOFFSETTO:-0500
TZNAME:EST
DTSTART:20261101T060000
END:STANDARD
BEGIN:DAYLIGHT
TZOFFSETFROM:-0500
TZOFFSETTO:-0400
TZNAME:EDT
DTSTART:20270314T070000
END:DAYLIGHT
BEGIN:STANDARD
TZOFFSETFROM:-0400
TZOFFSETTO:-0500
TZNAME:EST
DTSTART:20271107T060000
END:STANDARD
END:VTIMEZONE
BEGIN:VEVENT
DTSTART;VALUE=DATE:20260603
DTEND;VALUE=DATE:20260604
DTSTAMP:20260420T070547
CREATED:20250816T013315Z
LAST-MODIFIED:20250816T013315Z
UID:10002013-1780444800-1780531199@www.theepiphanyschool.org
SUMMARY:Field Day
DESCRIPTION:
URL:https://www.theepiphanyschool.org/event/field-day-5/
LOCATION:Dunwoodie Seminary\, 201 Seminary Avenue\, Yonkers\, NY\, 10704\, United States
CATEGORIES:The Epiphany School,Epiphany Sports
END:VEVENT
BEGIN:VEVENT
DTSTART;VALUE=DATE:20260605
DTEND;VALUE=DATE:20260606
DTSTAMP:20260420T070547
CREATED:20250826T170029Z
LAST-MODIFIED:20260205T142156Z
UID:10002023-1780617600-1780703999@www.theepiphanyschool.org
SUMMARY:Half Day\, All Students are Dismissed at 11:30
DESCRIPTION:After school programs will not be available.
URL:https://www.theepiphanyschool.org/event/half-day-all-students-are-dismissed-at-1130-10/
LOCATION:NY
CATEGORIES:The Epiphany School
END:VEVENT
BEGIN:VEVENT
DTSTART;VALUE=DATE:20260607
DTEND;VALUE=DATE:20260608
DTSTAMP:20260420T070547
CREATED:20250528T175850Z
LAST-MODIFIED:20250528T175850Z
UID:10001900-1780790400-1780876799@www.theepiphanyschool.org
SUMMARY:Feast of Corpus Christi
DESCRIPTION:
URL:https://www.theepiphanyschool.org/event/feast-of-corpus-christi/
LOCATION:NY
CATEGORIES:The Epiphany School,The Epiphany Church
END:VEVENT
BEGIN:VEVENT
DTSTART;TZID=America/New_York:20260607T110000
DTEND;TZID=America/New_York:20260607T120000
DTSTAMP:20260420T070547
CREATED:20250625T145134Z
LAST-MODIFIED:20250625T145134Z
UID:10001972-1780830000-1780833600@www.theepiphanyschool.org
SUMMARY:Class Mass\, 2nd & 7th Grades\, 11:00am
DESCRIPTION:
URL:https://www.theepiphanyschool.org/event/class-mass-2nd-7th-grades-1100am-4/
LOCATION:The Epiphany Church\, 375 2nd Avenue\, New York\, NY\, 10010\, United States
CATEGORIES:The Epiphany School,The Epiphany Church
END:VEVENT
BEGIN:VEVENT
DTSTART;TZID=America/New_York:20260607T123000
DTEND;TZID=America/New_York:20260607T160000
DTSTAMP:20260420T070547
CREATED:20260414T141457Z
LAST-MODIFIED:20260414T141457Z
UID:10002065-1780835400-1780848000@www.theepiphanyschool.org
SUMMARY:EFA Carnival!!! 12:30 on 22nd Street
DESCRIPTION:
URL:https://www.theepiphanyschool.org/event/efa-carnival-1230-on-22nd-street/
LOCATION:22nd Street\, 234 East 22nd Street\, New York\, NY\, 10010\, United States
CATEGORIES:The Epiphany School,Epiphany Family Association
END:VEVENT
BEGIN:VEVENT
DTSTART;VALUE=DATE:20260612
DTEND;VALUE=DATE:20260613
DTSTAMP:20260420T070547
CREATED:20250616T191037Z
LAST-MODIFIED:20250616T191037Z
UID:10001929-1781222400-1781308799@www.theepiphanyschool.org
SUMMARY:Class of 2026 Graduation
DESCRIPTION:
URL:https://www.theepiphanyschool.org/event/class-of-2026-graduation/
LOCATION:The Epiphany Church
CATEGORIES:The Epiphany School,The Epiphany Church
END:VEVENT
BEGIN:VEVENT
DTSTART;VALUE=DATE:20260612
DTEND;VALUE=DATE:20260613
DTSTAMP:20260420T070547
CREATED:20250623T153559Z
LAST-MODIFIED:20250623T153559Z
UID:10001941-1781222400-1781308799@www.theepiphanyschool.org
SUMMARY:Last Day of School for Kindergarten and the ECC
DESCRIPTION:
URL:https://www.theepiphanyschool.org/event/last-day-of-school-for-kindergarten-and-the-ecc/
LOCATION:NY
CATEGORIES:The Epiphany School
END:VEVENT
BEGIN:VEVENT
DTSTART;TZID=America/New_York:20260612T090000
DTEND;TZID=America/New_York:20260612T101500
DTSTAMP:20260420T070547
CREATED:20250616T191607Z
LAST-MODIFIED:20250616T191607Z
UID:10001930-1781254800-1781259300@www.theepiphanyschool.org
SUMMARY:ECC Moving Up Ceremony\, 9:00am
DESCRIPTION:
URL:https://www.theepiphanyschool.org/event/ecc-moving-up-ceremony-900am-2/
LOCATION:Upper School Gym\, 141 East 28th Street\, New York\, NY\, 10016\, United States
CATEGORIES:The Epiphany School
END:VEVENT
BEGIN:VEVENT
DTSTART;TZID=America/New_York:20260612T104500
DTEND;TZID=America/New_York:20260612T120000
DTSTAMP:20260420T070547
CREATED:20250616T191850Z
LAST-MODIFIED:20250616T191850Z
UID:10001931-1781261100-1781265600@www.theepiphanyschool.org
SUMMARY:Kindergarten Moving Up Ceremony\, 10:45am
DESCRIPTION:
URL:https://www.theepiphanyschool.org/event/kindergarten-moving-up-ceremony-1045am-2/
LOCATION:Lower School Parish Hall
CATEGORIES:The Epiphany School,The Epiphany Church
END:VEVENT
BEGIN:VEVENT
DTSTART;VALUE=DATE:20260617
DTEND;VALUE=DATE:20260618
DTSTAMP:20260420T070547
CREATED:20250616T190644Z
LAST-MODIFIED:20250616T190644Z
UID:10001926-1781654400-1781740799@www.theepiphanyschool.org
SUMMARY:Half Day\, All Students are Dismissed at 11:30
DESCRIPTION:
URL:https://www.theepiphanyschool.org/event/half-day-all-students-are-dismissed-at-1130-5/
LOCATION:NY
CATEGORIES:The Epiphany School
END:VEVENT
BEGIN:VEVENT
DTSTART;VALUE=DATE:20260618
DTEND;VALUE=DATE:20260619
DTSTAMP:20260420T070547
CREATED:20250616T190751Z
LAST-MODIFIED:20250616T190751Z
UID:10001927-1781740800-1781827199@www.theepiphanyschool.org
SUMMARY:Half Day\, All Students are Dismissed at 11:30\, Last Day of School for Grades 1st-7th
DESCRIPTION:
URL:https://www.theepiphanyschool.org/event/half-day-all-students-are-dismissed-at-1130-last-day-of-school-for-grades-1st-7th/
LOCATION:NY
CATEGORIES:The Epiphany School
END:VEVENT
BEGIN:VEVENT
DTSTART;VALUE=DATE:20260619
DTEND;VALUE=DATE:20260620
DTSTAMP:20260420T070547
CREATED:20250616T190852Z
LAST-MODIFIED:20250616T190852Z
UID:10001928-1781827200-1781913599@www.theepiphanyschool.org
SUMMARY:Juneteenth
DESCRIPTION:
URL:https://www.theepiphanyschool.org/event/juneteenth-6/
LOCATION:NY
CATEGORIES:The Epiphany School
END:VEVENT
BEGIN:VEVENT
DTSTART;VALUE=DATE:20260621
DTEND;VALUE=DATE:20260622
DTSTAMP:20260420T070547
CREATED:20250623T154453Z
LAST-MODIFIED:20250623T154453Z
UID:10001945-1782000000-1782086399@www.theepiphanyschool.org
SUMMARY:Fathers' Day
DESCRIPTION:
URL:https://www.theepiphanyschool.org/event/fathers-day-9/
LOCATION:NY
CATEGORIES:The Epiphany School
END:VEVENT
END:VCALENDAR