BEGIN:VCALENDAR
VERSION:2.0
PRODID:-//Epiphany - ECPv6.15.18//NONSGML v1.0//EN
CALSCALE:GREGORIAN
METHOD:PUBLISH
X-ORIGINAL-URL:https://www.theepiphanyschool.org
X-WR-CALDESC:Events for Epiphany
REFRESH-INTERVAL;VALUE=DURATION:PT1H
X-Robots-Tag:noindex
X-PUBLISHED-TTL:PT1H
BEGIN:VTIMEZONE
TZID:America/New_York
BEGIN:DAYLIGHT
TZOFFSETFROM:-0500
TZOFFSETTO:-0400
TZNAME:EDT
DTSTART:20250309T070000
END:DAYLIGHT
BEGIN:STANDARD
TZOFFSETFROM:-0400
TZOFFSETTO:-0500
TZNAME:EST
DTSTART:20251102T060000
END:STANDARD
BEGIN:DAYLIGHT
TZOFFSETFROM:-0500
TZOFFSETTO:-0400
TZNAME:EDT
DTSTART:20260308T070000
END:DAYLIGHT
BEGIN:STANDARD
TZOFFSETFROM:-0400
TZOFFSETTO:-0500
TZNAME:EST
DTSTART:20261101T060000
END:STANDARD
BEGIN:DAYLIGHT
TZOFFSETFROM:-0500
TZOFFSETTO:-0400
TZNAME:EDT
DTSTART:20270314T070000
END:DAYLIGHT
BEGIN:STANDARD
TZOFFSETFROM:-0400
TZOFFSETTO:-0500
TZNAME:EST
DTSTART:20271107T060000
END:STANDARD
END:VTIMEZONE
BEGIN:VEVENT
DTSTART;VALUE=DATE:20260422
DTEND;VALUE=DATE:20260424
DTSTAMP:20260420T041429
CREATED:20250816T013616Z
LAST-MODIFIED:20250816T013616Z
UID:10002016-1776816000-1776988799@www.theepiphanyschool.org
SUMMARY:NYS ELA Testing
DESCRIPTION:
URL:https://www.theepiphanyschool.org/event/nys-ela-testing-2/
LOCATION:NY
CATEGORIES:The Epiphany School
END:VEVENT
BEGIN:VEVENT
DTSTART;VALUE=DATE:20260425
DTEND;VALUE=DATE:20260426
DTSTAMP:20260420T041429
CREATED:20250623T153056Z
LAST-MODIFIED:20250623T153312Z
UID:10001939-1777075200-1777161599@www.theepiphanyschool.org
SUMMARY:First Reconciliation
DESCRIPTION:
URL:https://www.theepiphanyschool.org/event/first-reconciliation-3/
LOCATION:The Epiphany Church
CATEGORIES:The Epiphany School,The Epiphany Church
END:VEVENT
BEGIN:VEVENT
DTSTART;VALUE=DATE:20260428
DTEND;VALUE=DATE:20260429
DTSTAMP:20260420T041429
CREATED:20250816T014658Z
LAST-MODIFIED:20260115T205725Z
UID:10002021-1777334400-1777420799@www.theepiphanyschool.org
SUMMARY:Golf Outing
DESCRIPTION:
URL:https://www.theepiphanyschool.org/event/golf-outing-3/
LOCATION:NY
CATEGORIES:The Epiphany Foundation
END:VEVENT
BEGIN:VEVENT
DTSTART;TZID=America/New_York:20260428T170000
DTEND;TZID=America/New_York:20260428T183000
DTSTAMP:20260420T041429
CREATED:20250910T130327Z
LAST-MODIFIED:20250910T130327Z
UID:10002025-1777395600-1777401000@www.theepiphanyschool.org
SUMMARY:Confirmation Rehearsal
DESCRIPTION:Confirmation Students and Sponsors are required to attend. A parent may attend rehearsal in place of the Sponsor.
URL:https://www.theepiphanyschool.org/event/confirmation-rehearsal/
LOCATION:The Epiphany Church
CATEGORIES:The Epiphany School,The Epiphany Church
END:VEVENT
BEGIN:VEVENT
DTSTART;VALUE=DATE:20260429
DTEND;VALUE=DATE:20260501
DTSTAMP:20260420T041429
CREATED:20250816T013539Z
LAST-MODIFIED:20250816T013539Z
UID:10002015-1777420800-1777593599@www.theepiphanyschool.org
SUMMARY:NYS Math Testing
DESCRIPTION:
URL:https://www.theepiphanyschool.org/event/nys-math-testing/
LOCATION:NY
CATEGORIES:The Epiphany School
END:VEVENT
END:VCALENDAR